BEGIN:VCALENDAR
VERSION:2.0
PRODID:-//wp-events-plugin.com//7.2.3.1//EN
TZID:Europe/Berlin
X-WR-TIMEZONE:Europe/Berlin
BEGIN:VEVENT
UID:471@fesa.de
DTSTART;TZID=Europe/Berlin:20231102T190000
DTEND;TZID=Europe/Berlin:20231102T190000
DTSTAMP:20231020T141418Z
URL:https://www.fesa.de/aktuelles/termine/windkraft-wie-gelingt-uns-der-au
 sbau/
SUMMARY:Windkraft: Wie gelingt uns der Ausbau?
DESCRIPTION:Woran scheitert der Ausbau der Windkraft bislang und wie kann e
 s gelingen\, mehr Windräder zu genehmigen und zu bauen?\n\nÜber diese Fr
 agen und weitere Themen wie die Erschließung weiterer Standorte und die N
 etzanbindung von Windkraftanlagen wird Andreas Markowsky\, Geschäftsführ
 er der Ökostromgruppe Freiburg\, referieren und mit Gabi Rolland\, stellv
 ertretende Fraktionsvorsitzende der SPD-Landtagsfraktion Baden-Württember
 g diskutieren.
LOCATION:Architekturforum Freiburg e.V.\, Guntramstr. 15 \, Freiburg im Bre
 isgau\, 79106\, Deutschland
X-APPLE-STRUCTURED-LOCATION;VALUE=URI;X-ADDRESS=Guntramstr. 15 \, Freiburg 
 im Breisgau\, 79106\, Deutschland;X-APPLE-RADIUS=100;X-TITLE=Architekturfo
 rum Freiburg e.V.:geo:0,0
END:VEVENT
BEGIN:VTIMEZONE
TZID:Europe/Berlin
X-LIC-LOCATION:Europe/Berlin
BEGIN:STANDARD
DTSTART:20231029T020000
TZOFFSETFROM:+0200
TZOFFSETTO:+0100
TZNAME:CET
END:STANDARD
END:VTIMEZONE
END:VCALENDAR