BEGIN:VCALENDAR
VERSION:2.0
PRODID:-//wp-events-plugin.com//7.2.3.1//EN
TZID:Europe/Berlin
X-WR-TIMEZONE:Europe/Berlin
BEGIN:VEVENT
UID:292@fesa.de
DTSTART;TZID=Europe/Berlin:20220927T110000
DTEND;TZID=Europe/Berlin:20220927T123000
DTSTAMP:20220914T093920Z
URL:https://www.fesa.de/aktuelles/termine/webseminar-schritt-fuer-schritt-
 zum-klimaneutralen-waermenetz-im-bestand/
SUMMARY:Webseminar „Schritt für Schritt zum klimaneutralen Wärmenetz im
  Bestand“
DESCRIPTION:\n\nAm 15. September tritt die neue Bundesförderung Effiziente
  Wärmenetze (BEW) in Kraft. Damit erhalten erstmals auch Einzelmaßnahmen
  für die Dekarbonisierung von Wärmenetzen im Bestand eine attraktive Fö
 rderung. Auch längerfristige Transformationspläne werden erstmalig gefö
 rdert. Welche Möglichkeiten dies eröffnet\, berichtet Dr. Harald Schäff
 ler in seinem Webseminar „Schritt für Schritt zum klimaneutralen Wärme
 netz im Bestand“.\n\n\n\nIn diesem Webseminar werden zu Beginn die neuen
  BEW-Fördermodule vorgestellt und erläutert\, welche Inhalte und Anforde
 rungen Einzelmaßnahmen und Transformationspläne erfüllen müssen.\n\nAu
 fbauend darauf wird beispielhaft aufgezeigt\, wie man mit innovativen Simu
 lationswerkzeugen die Schwachpunkte eines Wärmenetzes erkennen und sinnvo
 lle Erst- und längerfristige Transformationsmaßnahmen identifizieren kan
 n. Für die Umsetzung dieser Maßnahmen können dann – einzeln oder in P
 aketen gebündelt – BEW-Fördermittel beantragt werden. Zum Schluss gibt
  es dann wie immer Raum für persönliche Fragen und einen offenen Erfahru
 ngsaustausch.\n\nWeitere Details und die Anmeldung finden Sie hier.\n\n\n
CATEGORIES:schäffler sinnogy
END:VEVENT
BEGIN:VTIMEZONE
TZID:Europe/Berlin
X-LIC-LOCATION:Europe/Berlin
BEGIN:DAYLIGHT
DTSTART:20220327T030000
TZOFFSETFROM:+0100
TZOFFSETTO:+0200
TZNAME:CEST
END:DAYLIGHT
END:VTIMEZONE
END:VCALENDAR