BEGIN:VCALENDAR
VERSION:2.0
PRODID:-//wp-events-plugin.com//7.2.3.1//EN
TZID:Europe/Berlin
X-WR-TIMEZONE:Europe/Berlin
BEGIN:VEVENT
UID:371@fesa.de
DTSTART;TZID=Europe/Berlin:20230315T193000
DTEND;TZID=Europe/Berlin:20230315T203000
DTSTAMP:20230228T093426Z
URL:https://www.fesa.de/aktuelles/termine/webinar-zum-thema-balkonmodule/
SUMMARY:Webinar zum Thema Balkonmodule
DESCRIPTION:Interessieren Dich folgende Fragen:\n\n 	Was ist ein Balkonsola
 rgerät?\n 	Wie schließe ich es an?\n 	Muss ich es anmelden?\n 	Wo bekomm
 e ich es her?\n 	Wie viel Strom erzeugt es?\n\nDann bist Du bei dem Webina
 r des Vereins Solare Zukunft e. V. und der EWS Schönau genau richtig! G
 emeinsam bieten sie Termine an\, bei denen diese Fragen ausführlich beant
 wortet werden.\n\nSei dabei! Zeit: 19:30 bis ca. 20:30 Uhr\n\nWeitere Info
 rmationen und Anmeldung unter: Informationen über Balkonsolar (pretix.eu)
CATEGORIES:EWS Schönau,Solare Zukunft e.V.
END:VEVENT
BEGIN:VTIMEZONE
TZID:Europe/Berlin
X-LIC-LOCATION:Europe/Berlin
BEGIN:STANDARD
DTSTART:20221030T020000
TZOFFSETFROM:+0200
TZOFFSETTO:+0100
TZNAME:CET
END:STANDARD
END:VTIMEZONE
END:VCALENDAR