BEGIN:VCALENDAR
VERSION:2.0
PRODID:-//wp-events-plugin.com//7.2.3.1//EN
TZID:Europe/Berlin
X-WR-TIMEZONE:Europe/Berlin
BEGIN:VEVENT
UID:739@fesa.de
DTSTART;TZID=Europe/Berlin:20260312T160000
DTEND;TZID=Europe/Berlin:20260312T203000
DTSTAMP:20260306T155226Z
URL:https://www.fesa.de/aktuelles/termine/waermepumpen-infotag/
SUMMARY:Wärmepumpen-Infotag
DESCRIPTION:Wie heizen wir zukünftig unsere Häuser? Die Wärmepumpe ist d
 afür neben der Fernwärme ein zentrales Puzzlestück. Wie der Umstieg von
  fossilen Heizungen zur Wärmepumpe gelingen kann\, zeigt die Stadt Freibu
 rg beim Wärmepumpen-Infotag am Donnerstag\, 12. März\, im Paulussaal (Dr
 eisamstraße 3).\n\nVon der ersten Orientierung bis zur konkreten Umsetzun
 g – nach der Veranstaltung sollten die Teilnehmer*innen deutlich mehr Kl
 arheit haben\, wie es für sie weitergehen kann. Das Programm deckt alle w
 ichtigen Aspekte des Heizungstausches ab und bietet neben Informationen au
 ch den direkten Kontakt zu Handwerksbetrieben. Es richtet sich vornehmlich
  an Besitzer*innen von Ein- und Zweifamilienhäusern.\n\nZur Unterstützun
 g holt sich das Umweltschutzamt zwei Fachleute auf die Bühne: Ab 18 Uhr i
 nformieren „Energiesparkommissar“ Carsten Herbert\, bekannter YouTuber
  und Spiegel-Bestsellerautor\, und Anja Floetenmeyer-Woltmann\, Wärmepump
 en-Beirätin der EU-Kommission\, in Vorträgen über den Heizungstausch.\n
 \nCarsten Herbert zeigt mit einer praktischen Anleitung auf\, woran Hausbe
 sitzende erkennen\, welchen Energiebedarf das eigene Haus hat\, wie man He
 izkosten spart und wie man das richtige System wählt. Sein Credo: „Es g
 ibt für jedes Haus eine passende Wärmepumpe!“\n\nAnja Floetenmeyer-Wol
 tmann informiert über gesetzliche Vorgaben\, den wirtschaftlich besten Ze
 itpunkt und wie man ein solches Projekt angeht. Besucher*innen erhalten ko
 nkrete Tipps zu Kosten\, Finanzierung und Fördermöglichkeiten.\n\nBereit
 s ab 16 Uhr stehen lokale Heizungsinstallateure\, Vertreter*innen von Hers
 tellern sowie Fachleute der Freiburger Innung Sanitär-\, Heizungs- und Kl
 imatechnik an zwölf Informationsständen für individuelle Beratungen und
  Projektgespräche zur Verfügung. Auch Energieberater der Energieagentur
  Regio Freiburg sowie Berater für Wärmelösungen der Badenova Energie 
 GmbH werden vor Ort sein.\n\nDer Eintritt ist frei\, eine Anmeldung unter
  www.waermepumpen-infotag.de ist nötig.
ATTACH;FMTTYPE=image/jpeg:https://www.fesa.de/wp-content/uploads/2026/03/N
 ewsbeitrag-und-Veranstaltung-Bild-fesa-Webseite_Korrekte-Vorlage_350-×-25
 0px-4.png
CATEGORIES:Stadt Freiburg
LOCATION:Paulussaal\, Dreisamstrasse 3\, Freiburg\, Deutschland
X-APPLE-STRUCTURED-LOCATION;VALUE=URI;X-ADDRESS=Dreisamstrasse 3\, Freiburg
 \, Deutschland;X-APPLE-RADIUS=100;X-TITLE=Paulussaal:geo:0,0
END:VEVENT
BEGIN:VTIMEZONE
TZID:Europe/Berlin
X-LIC-LOCATION:Europe/Berlin
BEGIN:STANDARD
DTSTART:20251026T020000
TZOFFSETFROM:+0200
TZOFFSETTO:+0100
TZNAME:CET
END:STANDARD
END:VTIMEZONE
END:VCALENDAR