BEGIN:VCALENDAR
VERSION:2.0
PRODID:-//wp-events-plugin.com//7.2.3.1//EN
TZID:Europe/Berlin
X-WR-TIMEZONE:Europe/Berlin
BEGIN:VEVENT
UID:44@fesa.de
DTSTART;TZID=Europe/Berlin:20190407T110000
DTEND;TZID=Europe/Berlin:20190407T170000
DTSTAMP:20190403T081445Z
URL:https://www.fesa.de/aktuelles/termine/waelder-der-welt-peru/
SUMMARY:Wälder der Welt - Peru
DESCRIPTION:Von der Atacama-Wüste bis zum Amazonas-Regenwald – Lichtbild
 vorträge\, Ausstellung\, Konzert\, Kinderprogramm und landestypische Kös
 tlichkeiten zum Thementag Peru\n\nIm Rahmen der Veranstaltungsreihe "Wäld
 er der Welt" des WaldHauses Freiburg und des Eine Welt Forums Freiburg fin
 det am Sonntag\, 7. April\, von 11 bis 17 Uhr in Kooperation mit der Infor
 mationsstelle Peru im Waldhaus ein Thementag zu Peru statt.\nExpert*innen 
 und Engagierte bieten einen Einblick in Naturräume\, Forstwirtschaft\, Le
 bensweise und Kultur eines der artenreichsten Länder der Erde.\n\nMehr al
 s die Hälfte der Fläche Perus ist von Wäldern bedeckt. Damit hat das La
 nd die zweitgrößte Waldfläche in Lateinamerika und den weltweit viertgr
 ößten Bestand an tropischem Regenwald. Peru gehört zu den artenreichste
 n Ländern der Erde und ist damit ein wichtiger Akteur für die Erhaltung 
 der Biodiversität und den globalen Klimaschutz.\n\nDerzeit hat Peru noch 
 die weltweit größte Vogelvielfalt. Von mehr als 1800 Arten gibt es über
  100 nur in diesem Land. Allerdings gehen jedes Jahr riesige Waldflächen 
 u.a. durch illegalen Holzeinschlag und Ausweitung landwirtschaftlicher Nut
 zflächen verloren. Dadurch sind Lebensräume der indigenen Bevölkerung a
 ber auch unzähliger Tier- und Pflanzenarten bedroht. Von den ca. 30 Milli
 onen Peruanern leben fast 80 Prozent in Städten\, ca. ein Drittel davon -
  rund 10 Mio. Menschen - wohnt im Großraum der Hauptstadt Lima.\n\nDie Ve
 ranstaltung wird um 11.00 Uhr eröffnet und startet dann um 11.15 Uhr mit 
 einem Lichtbildvortrag über die Naturwälder und Forstwirtschaft in Peru.
  Als Forstökologin und gebürtige Peruanerin spricht Dr. Viviana Horna ü
 ber die Naturräume von den Küstenwüsten über das Hochgebirge bis zum A
 mazonas.\n\nIn der Mittagspause von 12.15 bis 13.15 Uhr kann man im WaldHa
 us-Café landestypische Köstlichkeiten probieren. Ab 13.15 Uhr stellen B
 árbara Alagón\, Nuria Díaz\, Abel Neyra\, Aida Lázaro und Luis Somoza 
 ihr Land aus dem Blickwinkel der jungen Generation vor. Die fünf jungen M
 enschen engagieren sich derzeit in einem Freiwilligenjahr in Freiburg.\n\n
 Nach einer Kaffeepause folgen 14.45 Uhr zwei Lichtbildvorträge mit dem Th
 emenschwerpunkt Klimawandel. Jimi Merk von der Informationsstelle Peru spr
 icht über die Bedrohung des amazonischen Regenwalds und deren Folgen für
  Menschen und Klima. Annette Brox\, ebenfalls von der Informationsstelle P
 eru\, stellt die Idee einer kommunalen Klimapartnerschaft mit dem Distrikt
  Megantoni vor\, einem großen Natur- und Indigenenreservat im Amazonasgeb
 iet.\n\nZum Ausklang der Veranstaltung gibt es ein Konzert mit dem Lateina
 merika-Chor Freiburg.\n\nParallel zum Vortrags- und Musikprogramm können 
 Kinder Flöten aus Holunderholz schnitzen\, Freundschaftsbänder flechten 
 oder Naturbilder malen und basteln.\nAußerdem wird an diesem Tag eine Aus
 stellung zu den Auswirkungen des Klimawandels in Peru gezeigt. Und die Buc
 hhandlung Jos Fritz hält einen thematisch abgestimmten Büchertisch berei
 t.\n\nDurch die freundliche Unterstützung der Waisenhausstiftung ist der 
 Eintritt frei. Spenden sind erwünscht und kommen der Umweltbildung im Wal
 dHaus und der Arbeit des Eine Welt Forums Freiburg zugute.\nProgramm\n\n11
 .00 - 11.15    Begrüßung\n11.15 - 12.15    Lichtbildvortrag: Naturw
 älder und Forstwirtschaft in Peru - von den Küstenwüsten über das Hoch
 gebirge zum Amazonas \nDr. Viviana Horna\, Forstökologin\, Universität H
 ohenheim\n12.15 - 13.15    Mittagspause: Landestypische Speisen und Get
 ränke\n13.15 – 14.15   Lichtbildvortrag: Land und Leute - aus dem Bli
 ckwinkel der jungen Generation \nBárbara Alagón\, Nuria Díaz\, Abel Ney
 ra\, Aida Lázaro und Luis Somoza aus Peru\,          derzeit Frei
 willigenjahr in Freiburg\n14.15 – 14.45   Kaffeepause \n14.45 - 15.45
     Lichtbildvorträge: \n\n 	Perus Amazonischer Regenwald - die bedroh
 te Lunge der Welt\, Jimi Merk\n 	Eine Klimapartnerschaft mit Megantoni\, A
 nnette Brox\nbeide Referent*innen Informationsstelle Peru e.V.\n\n15.45 
 – 16.00    Umbau- und Kaffeepause\n16.00 – 17.00    Konzert: Latei
 namerika-Chor Freiburg\n\nDurchs Programm führen \nDagmar Große\, Eine W
 elt Forum Freiburg und Dr. Margret Hansen\, Stiftung WaldHaus Freiburg\nEi
 ne Kooperationsveranstaltung des WaldHaus Freiburg und des Eine Welt Forum
  Freiburg in Kooperation mit der Informationsstelle Peru\nGefördert vom A
 rmenfonds der Waisenhausstiftung
CATEGORIES:Eine Welt Forum Freiburg
LOCATION:WaldHaus Freiburg\, Wonnhaldestraße 6\, Freiburg\, 79100\, Deutsc
 hland
X-APPLE-STRUCTURED-LOCATION;VALUE=URI;X-ADDRESS=Wonnhaldestraße 6\, Freibu
 rg\, 79100\, Deutschland;X-APPLE-RADIUS=100;X-TITLE=WaldHaus Freiburg:geo:
 0,0
END:VEVENT
BEGIN:VTIMEZONE
TZID:Europe/Berlin
X-LIC-LOCATION:Europe/Berlin
BEGIN:DAYLIGHT
DTSTART:20190331T030000
TZOFFSETFROM:+0100
TZOFFSETTO:+0200
TZNAME:CEST
END:DAYLIGHT
END:VTIMEZONE
END:VCALENDAR