BEGIN:VCALENDAR
VERSION:2.0
PRODID:-//wp-events-plugin.com//7.2.3.1//EN
TZID:Europe/Berlin
X-WR-TIMEZONE:Europe/Berlin
BEGIN:VEVENT
UID:149@fesa.de
DTSTART;TZID=Europe/Berlin:20210301T193000
DTEND;TZID=Europe/Berlin:20210301T210000
DTSTAMP:20210219T143220Z
URL:https://www.fesa.de/aktuelles/termine/vortrag-zum-thema-psychologie-im
 -umweltschutz/
SUMMARY:Vortrag zum Thema Psychologie im Umweltschutz
DESCRIPTION:Die Umweltpsychologin Nathalie Niekisch richtet an der VHS Frei
 burg digital einen anderthalbstündigen Vortrag zum Thema Psychologie im U
 mweltschutz aus. Dabei geht es um die psychologischen Faktoren\, die unser
  (un)nachhaltiges Verhalten bedingen und wie wir diese in der Gestaltung v
 on Umweltschutzmaßnahmen berücksichtigen können. Mehr Informationen sow
 ie die Anmeldung zur Veranstaltung  sind hier zu finden: https://vhs-frei
 burg.de/index.php?id=9&amp\;Fsize=0&amp\;kathaupt=11&amp\;knr=211102700&am
 p\;kursname=Psychologie+im+Umweltschutz+Online-Vortrag&amp\;katid=0#inhalt
 \n\nDer Vortrag ist komplett frei zugänglich ohne Anmeldung. Die Zuschalt
 ung ist ab 18:50 direkt über folgenden Zugangslink möglich:\nZoom-Meetin
 g beitreten\nhttps://us02web.zoom.us/j/88557916688\nMeeting-ID: 885 5791 6
 688\nKenncode: 186532\n\n&nbsp\;\n\n&nbsp\;
END:VEVENT
BEGIN:VTIMEZONE
TZID:Europe/Berlin
X-LIC-LOCATION:Europe/Berlin
BEGIN:STANDARD
DTSTART:20201025T020000
TZOFFSETFROM:+0200
TZOFFSETTO:+0100
TZNAME:CET
END:STANDARD
END:VTIMEZONE
END:VCALENDAR