BEGIN:VCALENDAR
VERSION:2.0
PRODID:-//wp-events-plugin.com//7.2.3.1//EN
TZID:Europe/Berlin
X-WR-TIMEZONE:Europe/Berlin
BEGIN:VEVENT
UID:155@fesa.de
DTSTART;TZID=Europe/Berlin:20210321T170000
DTEND;TZID=Europe/Berlin:20210321T203000
DTSTAMP:20210317T110817Z
URL:https://www.fesa.de/aktuelles/termine/verleihung-des-georg-salvamoser-
 preis/
SUMMARY:Verleihung des Georg Salvamoser Preis
DESCRIPTION:Am kommenden Sonntag um 17.00 Uhr werden die diesjährigen Gewi
 nner des Georg Salvamoser Preises 2021 ausgezeichnet. Der bekannte Buch- u
 nd Fernsehjournalist Franz Alt führt durch das Programm.\nZu Gast sind un
 ter anderem Freiburgs Umweltbürgermeisterin Gerda Stuchlik\, der Leiter d
 es europaweit größten Solarforschungsinstituts Fraunhofer ISE\, Professo
 r Andreas Bett\, sowie Sarah-Lea Kuner\, Fridays for Future\, und Markus E
 lsässer\, der in Freiburg die erfolgreiche Fachmesse Intersolar entwickel
 te. Und natürlich mit den Preisträgern\, die Heldinnen und Helden der En
 ergiewende.\nDie Veranstaltung findet coronakonform statt und wird online 
 und live aus dem SolarCampus Freiburg übertragen\, der einstigen Wirkungs
 stätte von Georg Salvamoser.21.3.2021 um 17.00 Uhrwww.infreiburgzuhause.d
 e
END:VEVENT
BEGIN:VTIMEZONE
TZID:Europe/Berlin
X-LIC-LOCATION:Europe/Berlin
BEGIN:STANDARD
DTSTART:20201025T020000
TZOFFSETFROM:+0200
TZOFFSETTO:+0100
TZNAME:CET
END:STANDARD
END:VTIMEZONE
END:VCALENDAR