BEGIN:VCALENDAR
VERSION:2.0
PRODID:-//wp-events-plugin.com//7.2.3.1//EN
TZID:Europe/Berlin
X-WR-TIMEZONE:Europe/Berlin
BEGIN:VEVENT
UID:735@fesa.de
DTSTART;TZID=Europe/Berlin:20260306T190000
DTEND;TZID=Europe/Berlin:20260306T213000
DTSTAMP:20260304T160700Z
URL:https://www.fesa.de/aktuelles/termine/velohaven-kino-sold-city/
SUMMARY:Velohaven Kino: Sold City
DESCRIPTION:Wohnraum sollte Menschenrecht sein\, warum erfahrt ihr in dem F
 ilm. Solange das noch ein Traum ist kämpfen wir für bezahlbaren Wohnraum
 .\n\n„Seit der Finanzkrise erleben wir in den Metropolen der Welt einen 
 so nie dagewesenen Immobilienboom mit kontinuierlich wachsenden Boden- und
  Hauspreisen. Das hat eine spiegelbildliche Kehrseite: steigende Mieten. D
 er Zuwachs der Einkommen hält damit nicht mehr Schritt. Gering- und norma
 l verdienenden Bürgern droht die Verdrängung aus den begehrten Innenstad
 tlagen. “  – https://sold-city.org/de/
ATTACH;FMTTYPE=image/jpeg:https://www.fesa.de/wp-content/uploads/2026/03/N
 ewsbeitrag-und-Veranstaltung-Bild-fesa-Webseite_Korrekte-Vorlage_350-×-25
 0px-1.png
CATEGORIES:Velohaven
LOCATION:Glashaus Rieselfeld\, Maria von Rudloff-Platz\, Rieselfeld\, Freib
 urg\, Deutschland
X-APPLE-STRUCTURED-LOCATION;VALUE=URI;X-ADDRESS=Maria von Rudloff-Platz\, R
 ieselfeld\, Freiburg\, Deutschland;X-APPLE-RADIUS=100;X-TITLE=Glashaus Rie
 selfeld:geo:0,0
END:VEVENT
BEGIN:VTIMEZONE
TZID:Europe/Berlin
X-LIC-LOCATION:Europe/Berlin
BEGIN:STANDARD
DTSTART:20251026T020000
TZOFFSETFROM:+0200
TZOFFSETTO:+0100
TZNAME:CET
END:STANDARD
END:VTIMEZONE
END:VCALENDAR