BEGIN:VCALENDAR
VERSION:2.0
PRODID:-//wp-events-plugin.com//7.2.3.1//EN
TZID:Europe/Berlin
X-WR-TIMEZONE:Europe/Berlin
BEGIN:VEVENT
UID:736@fesa.de
DTSTART;TZID=Europe/Berlin:20260327T193000
DTEND;TZID=Europe/Berlin:20260327T213000
DTSTAMP:20260305T091755Z
URL:https://www.fesa.de/aktuelles/termine/velohaven-infoabend/
SUMMARY:Velohaven Infoabend
DESCRIPTION:Velohaven stellt sich vor und beantwortet deine Fragen!\n\nWaru
 m schreibt man Velohaven eigentlich mit V? Welche Rolle spielen Fahrräder
  im Wohnprojekt und wie funktioniert das eigentlich mit diesen Direktkredi
 ten? Diese und viele weitere Fragen wollen wir in unserem neuen Onlineform
 at niedrigschwellig beantworten. So muss auch bei schlechtem Wetter nieman
 d das gemütliche Wohnzimmer oder Büro verlassen oder von außerhalb Frei
 burgs weit anreisen. Mit wenigen Klicks kannst Du unserer Vorstellung laus
 chen und auch gerne Deine offenen Fragen mitbringen. Wir stehen mit Rat un
 d Tat zur Seite. Gemeinsam kriegen wir das auf die Kette.\n\nAnmelden unte
 r: velohaven.de/events
ATTACH;FMTTYPE=image/jpeg:https://www.fesa.de/wp-content/uploads/2026/03/N
 ewsbeitrag-und-Veranstaltung-Bild-fesa-Webseite_Korrekte-Vorlage_350-×-25
 0px-2.png
CATEGORIES:Velohaven
LOCATION:Glashaus Rieselfeld\, Maria von Rudloff-Platz\, Rieselfeld\, Freib
 urg\, Deutschland
X-APPLE-STRUCTURED-LOCATION;VALUE=URI;X-ADDRESS=Maria von Rudloff-Platz\, R
 ieselfeld\, Freiburg\, Deutschland;X-APPLE-RADIUS=100;X-TITLE=Glashaus Rie
 selfeld:geo:0,0
END:VEVENT
BEGIN:VTIMEZONE
TZID:Europe/Berlin
X-LIC-LOCATION:Europe/Berlin
BEGIN:STANDARD
DTSTART:20251026T020000
TZOFFSETFROM:+0200
TZOFFSETTO:+0100
TZNAME:CET
END:STANDARD
END:VTIMEZONE
END:VCALENDAR