BEGIN:VCALENDAR
VERSION:2.0
PRODID:-//wp-events-plugin.com//7.2.3.1//EN
TZID:Europe/Berlin
X-WR-TIMEZONE:Europe/Berlin
BEGIN:VEVENT
UID:694@fesa.de
DTSTART;TZID=Europe/Berlin:20250919T133000
DTEND;TZID=Europe/Berlin:20250919T173000
DTSTAMP:20250722T114224Z
URL:https://www.fesa.de/aktuelles/termine/steckersolar-basteln-beim-energi
 etag-in-march-19-09-25/
SUMMARY:Steckersolar Basteln beim Energietag in March – 19.09.25
DESCRIPTION:Energietag in March – 19.09 Steckersolarbasteln March  13:30 
  – 17:30h \n\nVortrag zum Start findet im Bürgersaal im Bürgerhaus sta
 tt und ist geöffnet auch für Interessierte\, die nicht für das Solarbas
 teln angemeldet sind.\n\n13:30 – 14:00h Einführung in Balkonsolaranlage
 n\, Sebastian Müller\, BalkonSolar e.V.\n\n14:30 – bis ca 16:30 Stecker
 solarbasteln aus gebebrauchten Solarpannels\n\nHier geht zur Anmeldung
ATTACH;FMTTYPE=image/jpeg:https://www.fesa.de/wp-content/uploads/2025/07/V
 ortrag-SteckerPV-Eucor-Mobilab_350-×-250px.png
CATEGORIES:balkon.solar
LOCATION:Bürgersaal im Bürgerhaus\,  Sportplatzstraße 14\, 79232 March\,
  Deutschland
X-APPLE-STRUCTURED-LOCATION;VALUE=URI;X-ADDRESS= Sportplatzstraße 14\, 792
 32 March\, Deutschland;X-APPLE-RADIUS=100;X-TITLE=Bürgersaal im Bürgerha
 us:geo:0,0
END:VEVENT
BEGIN:VTIMEZONE
TZID:Europe/Berlin
X-LIC-LOCATION:Europe/Berlin
BEGIN:DAYLIGHT
DTSTART:20250330T030000
TZOFFSETFROM:+0100
TZOFFSETTO:+0200
TZNAME:CEST
END:DAYLIGHT
END:VTIMEZONE
END:VCALENDAR