BEGIN:VCALENDAR
VERSION:2.0
PRODID:-//wp-events-plugin.com//7.2.3.1//EN
TZID:Europe/Berlin
X-WR-TIMEZONE:Europe/Berlin
BEGIN:VEVENT
UID:553@fesa.de
DTSTART;TZID=Europe/Berlin:20240716T180000
DTEND;TZID=Europe/Berlin:20240716T193000
DTSTAMP:20240703T130916Z
URL:https://www.fesa.de/aktuelles/termine/stadtspaziergang-klimafit-2/
SUMMARY:Stadtspaziergang klimafit
DESCRIPTION:Wie kann sich die Stadt Freiburg für die Folgen des Klimawande
 ls fit machen? Bei einem Stadtspaziergang erklären Dr. Wulf Westermann un
 d Carla van der Meyden\, was Klimawandel in Freiburg bedeutet und wie wir 
 uns darauf vorbereiten können.\n\n\nDer Klimawandel ist in vollem Gange u
 nd seine Folgen sind in ganz Deutschland spürbar. Insbesondere in sonnenv
 erwöhnten Städten wie Freiburg ist die Hitzebelastung bereits als hoch e
 inzustufen und wird in den nächsten Jahrzehnten weiter steigen. Was bedeu
 tet Klimawandel in Freiburg und wie können wir uns darauf vorbereiten? Wi
 rd der Klimawandel in der Stadtplanung berücksichtigt? Wie wird Klimaanpa
 ssung in die städtische Grün- und Freiraumplanung einbezogen? Was haben 
 die Klimaänderungen mit unserer Gesundheit zu tun und was kann am Arbeits
 platz oder in der Freizeit getan werden? Diese und weitere Fragen zum Them
 a Klimawandel und seine Folgen sollen bei einem Stadtrundgang mit Dr. Wulf
  Westermann und Carla van der Meyden vom Netzwerk Klimawandel und Klimaanp
 assung/ifpro Vorort für Freiburg betrachtet werden.\n\nDie Führung endet
  nicht dort\, wo sie angefangen hat. Eine Anmeldung über die Webseite der
  vhs Freiburg ist erforderlich\, die Kursgebühr beträgt 5 €.\n\n
ATTACH;FMTTYPE=image/jpeg:https://www.fesa.de/wp-content/uploads/2024/07/B
 ild_Veranstaltung_Klimaspaziergang.jpg
CATEGORIES:ifpro,Volkshochschule Freiburg
LOCATION:Innenstadt Freiburg\, Der Treffpunkt wird 2 Tage vor Kursbeginn be
 kannt gegeben\, Freiburg im Breisgau\, Deutschland
X-APPLE-STRUCTURED-LOCATION;VALUE=URI;X-ADDRESS=Der Treffpunkt wird 2 Tage 
 vor Kursbeginn bekannt gegeben\, Freiburg im Breisgau\, Deutschland;X-APPL
 E-RADIUS=100;X-TITLE=Innenstadt Freiburg:geo:0,0
END:VEVENT
BEGIN:VTIMEZONE
TZID:Europe/Berlin
X-LIC-LOCATION:Europe/Berlin
BEGIN:DAYLIGHT
DTSTART:20240331T030000
TZOFFSETFROM:+0100
TZOFFSETTO:+0200
TZNAME:CEST
END:DAYLIGHT
END:VTIMEZONE
END:VCALENDAR