BEGIN:VCALENDAR
VERSION:2.0
PRODID:-//wp-events-plugin.com//7.2.3.1//EN
TZID:Europe/Berlin
X-WR-TIMEZONE:Europe/Berlin
BEGIN:VEVENT
UID:705@fesa.de
DTSTART;TZID=Europe/Berlin:20251122T110000
DTEND;TZID=Europe/Berlin:20251122T130000
DTSTAMP:20251027T115923Z
URL:https://www.fesa.de/aktuelles/termine/samstags-forum-split-waermepumpe
 n-fuer-heizen-und-kuehlen-im-verbund-mit-solarenergienutzung/
SUMMARY:Samstags-Forum: Split-Wärmepumpen für Heizen und Kühlen im Verbu
 nd mit Solarenergienutzung
DESCRIPTION:Am 22. November findet im Rahmen des Samstags-Forums Regio Frei
 burg folgende Führung zum Energiesparen und zu erneuerbaren Energien stat
 t: "Split-Wärmepumpen für Heizen und Kühlen im Verbund mit Solarenergie
 nutzung. 2 EFH-Objekte in Gundelfingen i.Br." Die Führung wird von Alfons
  Beiser und Dr. Georg Löser geleitet. Die Teilnahme ist nur nach Anmeldun
 g an ecotrinova@web.de bis 20.11.\, 20 Uhr\, möglich und die Teilnahmezah
 l ist begrenzt. Ort und Anfahrthinweise werden bei der Anmeldung mitgeteil
 t.
ATTACH;FMTTYPE=image/jpeg:https://www.fesa.de/wp-content/uploads/2025/10/B
 ild_Veranstaltung_Samstags-Forum-Regio-Freiburg_C-Canva_350-×-250px-1.png
CATEGORIES:AGUS Markgräflerland e.V.,AK Wasser,Anti-Atom-Gruppe
 Freiburg,Badisch-Elsässische Bürtgerinitiativen,BI pro
 Landwirtschaft,BUND Ortsverband Freiburg,BUND Regionalverband Südl.
 Oberrhein e.V.,Bundesverband WindEnergie,Bürgeraktion Dietenbach ist
 überall,Bürgerinitiative Energiewende Waldkirch,Ecotrinova,ecotrinova
 e.V.,Energie-3Regio,Energieforum Gundelfingen,FARBE e.V.,fesa e.V.,FIUC
 Freiburger Inst. für Umweltchemie e.V.,FV Zukunftsenergien SolarRegio
 Kaiserstuhl e.V.,ifpro,Klima-Bündnis,Menschenrechte 3000 e.V.,NABU,Plan B
 e.V.,Stadtwandler
END:VEVENT
BEGIN:VTIMEZONE
TZID:Europe/Berlin
X-LIC-LOCATION:Europe/Berlin
BEGIN:STANDARD
DTSTART:20251026T020000
TZOFFSETFROM:+0200
TZOFFSETTO:+0100
TZNAME:CET
END:STANDARD
END:VTIMEZONE
END:VCALENDAR