BEGIN:VCALENDAR
VERSION:2.0
PRODID:-//wp-events-plugin.com//7.2.3.1//EN
TZID:Europe/Berlin
X-WR-TIMEZONE:Europe/Berlin
BEGIN:VEVENT
UID:378@fesa.de
DTSTART;TZID=Europe/Berlin:20230513T101500
DTEND;TZID=Europe/Berlin:20230513T124500
DTSTAMP:20230307T144155Z
URL:https://www.fesa.de/aktuelles/termine/samstags-forum-regio-freiburg-me
 hr-baeume-mehr-waelder/
SUMMARY:Samstags Forum Regio Freiburg: Mehr Bäume - mehr Wälder
DESCRIPTION:Samstags Forum Regio Freiburg zum Thema "Landwirte und Bürger 
 für starke Äcker mit Natur" \n\nVortrag mit Video. Bausteine fürs ECOva
 lley blühender Oberrheinvon Dr. Carola Holweg\, Nachhaltigkeitsprojekte\,
  Merzhausen\n\n\nVortrag zum Thema "Weltweit Aufforsten fürs Klima und f
 ür mehr Biodiversität"Dr. Manfred Vohrer*\, Global Woods International\,
  Münstertal\n\n\n&nbsp\;\n\nhttps://ecotrinova.de/downloads/2023/Progr_Sa
 mstagsForumRegioFR_Fr%C3%BChjahr2023%20Reihe33%20LEPO.pdf
CATEGORIES:ecotrinova e.V.
LOCATION:Hörsaal 1015\, Kollegiengebäude 1\, Universität Freiburg\, Frei
 burg\, 79098\, Deutschland
X-APPLE-STRUCTURED-LOCATION;VALUE=URI;X-ADDRESS=Universität Freiburg\, Fre
 iburg\, 79098\, Deutschland;X-APPLE-RADIUS=100;X-TITLE=Hörsaal 1015\, Kol
 legiengebäude 1:geo:0,0
END:VEVENT
BEGIN:VTIMEZONE
TZID:Europe/Berlin
X-LIC-LOCATION:Europe/Berlin
BEGIN:DAYLIGHT
DTSTART:20230326T030000
TZOFFSETFROM:+0100
TZOFFSETTO:+0200
TZNAME:CEST
END:DAYLIGHT
END:VTIMEZONE
END:VCALENDAR