BEGIN:VCALENDAR
VERSION:2.0
PRODID:-//wp-events-plugin.com//7.2.3.1//EN
TZID:Europe/Berlin
X-WR-TIMEZONE:Europe/Berlin
BEGIN:VEVENT
UID:377@fesa.de
DTSTART;TZID=Europe/Berlin:20230422T101500
DTEND;TZID=Europe/Berlin:20230422T124500
DTSTAMP:20230307T143635Z
URL:https://www.fesa.de/aktuelles/termine/samstags-forum-regio-freiburg-en
 ergiewende-klimaschutz/
SUMMARY:Samstags-Forum Regio Freiburg: Energiewende - Klimaschutz
DESCRIPTION:Samstags-Forum Regio Freiburg zum Thema „100% klimaneutrale E
 nergieversorgung in Baden-Württemberg – was bedeutet das für Freiburg 
 und die Region Südlicher Oberrhein?“*\n\nDr. Matthias Koch\, Senior Res
 earcher\, Mitautor der Studie\, Öko-Institut e.V.\, Freiburg i.Br.\,Aktua
 lisiert aus der Studie (2022) des Öko-Instituts e.V. für den BUND Baden-
 Württemberg e.V\n\n&nbsp\;\n\nhttps://ecotrinova.de/downloads/2023/Progr_
 SamstagsForumRegioFR_Fr%C3%BChjahr2023%20Reihe33%20LEPO.pdf
CATEGORIES:ecotrinova e.V.
LOCATION:Hörsaal 1015\, Kollegiengebäude 1\, Universität Freiburg\, Frei
 burg\, 79098\, Deutschland
X-APPLE-STRUCTURED-LOCATION;VALUE=URI;X-ADDRESS=Universität Freiburg\, Fre
 iburg\, 79098\, Deutschland;X-APPLE-RADIUS=100;X-TITLE=Hörsaal 1015\, Kol
 legiengebäude 1:geo:0,0
END:VEVENT
BEGIN:VTIMEZONE
TZID:Europe/Berlin
X-LIC-LOCATION:Europe/Berlin
BEGIN:DAYLIGHT
DTSTART:20230326T030000
TZOFFSETFROM:+0100
TZOFFSETTO:+0200
TZNAME:CEST
END:DAYLIGHT
END:VTIMEZONE
END:VCALENDAR