BEGIN:VCALENDAR
VERSION:2.0
PRODID:-//wp-events-plugin.com//7.2.3.1//EN
TZID:Europe/Berlin
X-WR-TIMEZONE:Europe/Berlin
BEGIN:VEVENT
UID:702@fesa.de
DTSTART;TZID=Europe/Berlin:20251115T103000
DTEND;TZID=Europe/Berlin:20251115T103000
DTSTAMP:20251023T151614Z
URL:https://www.fesa.de/aktuelles/termine/samstags-forum-klimawandel-und-g
 esellschaft-in-mitteleuropa-seit-1800/
SUMMARY:Samstags-Forum: Klimawandel und Gesellschaft in Mitteleuropa seit 1
 800
DESCRIPTION:Am 15. November findet im Rahmen des Samstags-Forums Regio Frei
 burg im KG 1\, HS 1015 der Universität Freiburg folgender Vortrag zum Kli
 maschutz statt: "Klimadämmerung - Klimawandel und Gesellschaft in Mittele
 uropa seit 1800 - Entwicklungen\, Folgen und Perspektiven". Der Vortrag wi
 rd von Prof. Dr. Rüdiger Glaser\, Lehrstuhlinhaber am\nInstitut für Phys
 ische Geographie\, Universität Freiburg i.Br. gehalten.
ATTACH;FMTTYPE=image/jpeg:https://www.fesa.de/wp-content/uploads/2025/10/B
 ild_Veranstaltung_Samstags-Forum-Regio-Freiburg_C-Canva_350-×-250px-1.png
CATEGORIES:AGUS Markgräflerland e.V.,AK Wasser,Anti-Atom-Gruppe
 Freiburg,Badisch-Elsässische Bürtgerinitiativen,BI pro
 Landwirtschaft,BUND Ortsverband Freiburg,BUND Regionalverband Südl.
 Oberrhein e.V.,Bundesverband WindEnergie,Bürgeraktion Dietenbach ist
 überall,Bürgerinitiative Energiewende Waldkirch,Ecotrinova,ecotrinova
 e.V.,Energie-3Regio,Energieforum Gundelfingen,Fachschaft
 Forst-Hydro-Umwelt,FARBE e.V.,fesa e.V.,FIUC Freiburger Inst. für
 Umweltchemie e.V.,FV Zukunftsenergien SolarRegio Kaiserstuhl
 e.V.,ifpro,KlimaBündnis Freiburg,Menschenrechte 3000 e.V.,NABU,Plan B
 e.V.,Stadtwandler
LOCATION:Universität Freiburg\, Kollegiengebäude 1 Hörsaal 1015\, Freibu
 rg im Breisgau\, Deutschland
X-APPLE-STRUCTURED-LOCATION;VALUE=URI;X-ADDRESS=Kollegiengebäude 1 Hörsaa
 l 1015\, Freiburg im Breisgau\, Deutschland;X-APPLE-RADIUS=100;X-TITLE=Uni
 versität Freiburg:geo:0,0
END:VEVENT
BEGIN:VTIMEZONE
TZID:Europe/Berlin
X-LIC-LOCATION:Europe/Berlin
BEGIN:STANDARD
DTSTART:20251026T020000
TZOFFSETFROM:+0200
TZOFFSETTO:+0100
TZNAME:CET
END:STANDARD
END:VTIMEZONE
END:VCALENDAR