BEGIN:VCALENDAR
VERSION:2.0
PRODID:-//wp-events-plugin.com//7.2.3.1//EN
TZID:Europe/Berlin
X-WR-TIMEZONE:Europe/Berlin
BEGIN:VEVENT
UID:701@fesa.de
DTSTART;TZID=Europe/Berlin:20251106T190000
DTEND;TZID=Europe/Berlin:20251106T214500
DTSTAMP:20251027T103205Z
URL:https://www.fesa.de/aktuelles/termine/samstags-forum-film-wyhl-und-die
 -linken/
SUMMARY:Samstags-Forum: Film „WYHL UND DIE LINKEN"
DESCRIPTION:Die Filmvorführung „WYHL UND DIE LINKEN" (2015\, 90 min) im 
 Rahmen des Samstags-Forums Regio Freiburg wird anlässlich 50 Jahre neunmo
 natige erfolgreiche Bauplatzbesetzung gegen das Atomkraftwerk Wyhl vom Feb
 ruar bis November 1975 gezeigt. Der Film von Bodo Kaiser und Siggi Held is
 t Teil der "Trilogie-Doku Politische Kultur" in Freiburg i.Br.. Mit anschl
 ießendem Filmgespräch mit den Autoren und Gästen.
ATTACH;FMTTYPE=image/jpeg:https://www.fesa.de/wp-content/uploads/2025/10/B
 ild_Veranstaltung_Samstags-Forum-Regio-Freiburg_C-Canva_350-×-250px-1.png
CATEGORIES:AGUS Markgräflerland e.V.,AK Wasser,Anti-Atom-Gruppe
 Freiburg,Badisch-Elsässische Bürtgerinitiativen,BI pro
 Landwirtschaft,BUND Ortsverband Freiburg,BUND Regionalverband Südl.
 Oberrhein e.V.,Bundesverband WindEnergie,Bürgeraktion Dietenbach ist
 überall,Bürgerinitiative Energiewende Waldkirch,Ecotrinova,ecotrinova
 e.V.,Energie-3Regio,Energieforum Gundelfingen,Fachschaft
 Forst-Hydro-Umwelt,FARBE e.V.,fesa e.V.,FIUC Freiburger Inst. für
 Umweltchemie e.V.,FV Zukunftsenergien SolarRegio Kaiserstuhl
 e.V.,ifpro,KlimaBündnis Freiburg,Menschenrechte 3000 e.V.,NABU,Plan B
 e.V.,Stadtwandler
LOCATION:Universität Freiburg\, Kollegiengebäude 1 Hörsaal 1098\, Freibu
 rg im Breisgau\, Deutschland
X-APPLE-STRUCTURED-LOCATION;VALUE=URI;X-ADDRESS=Kollegiengebäude 1 Hörsaa
 l 1098\, Freiburg im Breisgau\, Deutschland;X-APPLE-RADIUS=100;X-TITLE=Uni
 versität Freiburg:geo:0,0
END:VEVENT
BEGIN:VTIMEZONE
TZID:Europe/Berlin
X-LIC-LOCATION:Europe/Berlin
BEGIN:STANDARD
DTSTART:20251026T020000
TZOFFSETFROM:+0200
TZOFFSETTO:+0100
TZNAME:CET
END:STANDARD
END:VTIMEZONE
END:VCALENDAR