BEGIN:VCALENDAR
VERSION:2.0
PRODID:-//wp-events-plugin.com//7.2.3.1//EN
TZID:Europe/Berlin
X-WR-TIMEZONE:Europe/Berlin
BEGIN:VEVENT
UID:117@fesa.de
DTSTART;TZID=Europe/Berlin:20200123T180000
DTEND;TZID=Europe/Berlin:20200123T200000
DTSTAMP:20191212T155427Z
URL:https://www.fesa.de/aktuelles/termine/ringvorlesung-teil-5-generatione
 nzeitlichkeit/
SUMMARY:Ringvorlesung Teil 5: "Generationenzeitlichkeit"
DESCRIPTION:Ringvorlesung Wintersemester 2019 / 2010\nInterdiszipliniäre P
 erspektiven auf das Problemfeld Nachhaltigkeit.\nTeil 5: Generationenzeitl
 ichkeit\n&nbsp\;\n\nDr. Daniel Falb (Philosoph\, Lyriker)\n\n\n\nProgramm
 übersicht des Nachhaltigkeitsbüro Uni Freiburg\n\n[wpdm_package id='5137
 ']
CATEGORIES:Nachhaltigkeitsbüro Uni Freiburg
LOCATION:Universität Freiburg KG 3\, HS 3118\, Platz der alten Synagoge 3\
 , Freiburg\, 79098\, Deutschland
X-APPLE-STRUCTURED-LOCATION;VALUE=URI;X-ADDRESS=Platz der alten Synagoge 3\
 , Freiburg\, 79098\, Deutschland;X-APPLE-RADIUS=100;X-TITLE=Universität F
 reiburg KG 3\, HS 3118:geo:0,0
END:VEVENT
BEGIN:VTIMEZONE
TZID:Europe/Berlin
X-LIC-LOCATION:Europe/Berlin
BEGIN:STANDARD
DTSTART:20191027T020000
TZOFFSETFROM:+0200
TZOFFSETTO:+0100
TZNAME:CET
END:STANDARD
END:VTIMEZONE
END:VCALENDAR