BEGIN:VCALENDAR
VERSION:2.0
PRODID:-//wp-events-plugin.com//7.2.3.1//EN
TZID:Europe/Berlin
X-WR-TIMEZONE:Europe/Berlin
BEGIN:VEVENT
UID:588@fesa.de
DTSTART;TZID=Europe/Berlin:20241128T180000
DTEND;TZID=Europe/Berlin:20241128T210000
DTSTAMP:20241023T144009Z
URL:https://www.fesa.de/aktuelles/termine/regionetz-2024-gemeinsam-mehr-er
 reichen/
SUMMARY:RegioNetz 2024 - Gemeinsam mehr erreichen!
DESCRIPTION:\n\n\nStell dir vor\, lokale Klimagruppen wären bei vielen ihr
 er Aktionen nicht auf sich allein gestellt. Sie könnten auf ein breites N
 etzwerk aus Initiativen und Förderern zurückgreifen\, um schnell nicht n
 ur an Geld\, sondern auch an Erfahrung und professionelle Ressourcen zu ko
 mmen.\n\nSie könnten innerhalb eines Netzwerks von Akteuren mit ähnliche
 n Zielen ihre Informationen bündeln und austauschen\, um gemeinsam Aktion
 en zu planen und wirksamer zu sein.\n\nEine solche Netzwerk- und Unterstü
 tzungsstruktur wollen wir gemeinsam mit dir in Freiburg aufbauen\, um die 
 bestehenden zivilgesellschaftlichen Strukturen zu stärken und mit mehr Re
 ssourcen zu unterstützen\, damit sie effektiv gegen die Klimakrise vor Or
 t in Freiburg vorgehen können.\n\nBist du dabei?\n\nBeim Kick-Off Treffen
  am 28.11.2024 von 18 bis 21 Uhr im Haus des Engagements wollen wir gemein
 sam Ideen entwickeln\, was es in Freiburg an Unterstützungsstruktur brauc
 ht\, wie wir sie gemeinsam aufbauen können\, wen wir mit ins Boot holen\,
  um die Klimawende von unten voranzutreiben.\n\nIn einem Open-Space-ähnli
 chen Format kannst du deine Idee einbringen\, mit anderen diskutieren und 
 erste Schritte zur Umsetzung planen.\n\n\n\nMelde dich bitte hier an\, wen
 n du an der Veranstaltung teilnehmen möchtest!
ATTACH;FMTTYPE=image/jpeg:https://www.fesa.de/wp-content/uploads/2024/09/C
 anva-Veranstaltung-fuer-mehr-miteinander-e1726819600450.png
CATEGORIES:fesa e.V.
LOCATION:Haus des Engagements\, Rehlingstraße 9\, Freiburg\, 79100\, Deuts
 chland
X-APPLE-STRUCTURED-LOCATION;VALUE=URI;X-ADDRESS=Rehlingstraße 9\, Freiburg
 \, 79100\, Deutschland;X-APPLE-RADIUS=100;X-TITLE=Haus des Engagements:geo
 :0,0
END:VEVENT
BEGIN:VTIMEZONE
TZID:Europe/Berlin
X-LIC-LOCATION:Europe/Berlin
BEGIN:STANDARD
DTSTART:20241027T020000
TZOFFSETFROM:+0200
TZOFFSETTO:+0100
TZNAME:CET
END:STANDARD
END:VTIMEZONE
END:VCALENDAR