BEGIN:VCALENDAR
VERSION:2.0
PRODID:-//wp-events-plugin.com//7.2.3.1//EN
TZID:Europe/Berlin
X-WR-TIMEZONE:Europe/Berlin
BEGIN:VEVENT
UID:122@fesa.de
DTSTART;TZID=Europe/Berlin:20200419T100000
DTEND;TZID=Europe/Berlin:20200419T160000
DTSTAMP:20200311T144849Z
URL:https://www.fesa.de/aktuelles/termine/pv-balkon-workshop/
SUMMARY:Sommer\, Sonne\, Strom vom Balkon
DESCRIPTION:Workshop zum Bau einer eigenen netzunabhängigen Balkon-Photovo
 ltaikanlage\nAm 19.04.2020 findet im Rahmen des Photovoltaik-Netzwerks Sü
 dlicher Oberrhein zusammen mit Solare Zukunft e.V. und der Ökostation Fre
 iburg ein praktischer Tag zum Thema Solarmodule statt.\n\nNach einer inhal
 tlichen Einführung zu den Themen Energiebedarf und Energiewende wird uns 
 Rolf Behringer (Solare Zukunft e.V.) einen Überblick über verschiedene P
 hotovoltaik-Anlagen und deren Eigenschaften geben. Im Anschluss werden wir
  eine eigene\, kleine\, unabhängige Balkon-Photovoltaikanlage bauen\, um 
 selber zu Hause Strom zu erzeugen. Dabei entsteht genügend Energie\, um z
 um Beispiel Kleingeräte wie Handy oder Tablet mit Strom zu versorgen. Ega
 l ob im Garten\, auf der Garage oder am Balkon angebracht\; Ihre Endgerät
 e können über USB geladen werden. Gerne verwenden wir auch gebrauchte So
 larmodule und funktionierende Komponenten. Die Materialkosten (80 - 500€
 ) variieren je nach Wahl der einzelnen Bauteile (Solarmodul\, Energiespeic
 her\, Laderegler\, Verkabelung\, Anschluss). Diese werden wir im Voraus mi
 t Ihnen absprechen und auswählen. Für eine kleine Verpflegung wird ebenf
 alls gesorgt.\n\nWenn Sie an dem Workshop teilnehmen möchten\, melden Sie
  sich bis spätestens 1. April 2020 mit Namen und Telefonnummer per E-Mail
  unter mail@fesa.de an. Die Anzahl der Teilnehmer*innen ist auf 8 Personen
  beschränkt. Es besteht jedoch auch die Möglichkeit an dem Workshop teil
 zunehmen\, ohne ein eigenes Modul zu bauen\, falls Sie interessiert\, was 
 bei dem Bau einer Balkon-Photovoltaikanlage zu beachten ist.
CATEGORIES:Energieagentur Regio Freiburg,fesa e.V.,Ökostation
 Freiburg,Photovoltaik-Netzwerk Südlicher Oberrhein,Solare Zukunft e.V.
END:VEVENT
BEGIN:VTIMEZONE
TZID:Europe/Berlin
X-LIC-LOCATION:Europe/Berlin
BEGIN:DAYLIGHT
DTSTART:20200329T030000
TZOFFSETFROM:+0100
TZOFFSETTO:+0200
TZNAME:CEST
END:DAYLIGHT
END:VTIMEZONE
END:VCALENDAR