BEGIN:VCALENDAR
VERSION:2.0
PRODID:-//wp-events-plugin.com//7.2.3.1//EN
TZID:Europe/Berlin
X-WR-TIMEZONE:Europe/Berlin
BEGIN:VEVENT
UID:699@fesa.de
DTSTART;TZID=Europe/Berlin:20251104T140000
DTEND;TZID=Europe/Berlin:20251104T183000
DTSTAMP:20251008T112012Z
URL:https://www.fesa.de/aktuelles/termine/netzwerktreffen-nachhaltigkeit-l
 ernen/
SUMMARY:Netzwerktreffen Nachhaltigkeit Lernen
DESCRIPTION:2. Netzwerktreffen 2025  in der Ökostation\nWorkshop „Zusamm
 enwachsen – BNE in Krisenzeiten“ mit dem Konzeptwerk neue Ökonomie\n\
 nEs wird zum 2. Netzwerktreffen “Nachhaltigkeit Lernen” eingeladen. Zu
  Gast ist das Konzeptwerk neue Ökonomie.\n\nNora Peulen (sie) – sie arb
 eitet in kollektiven Lernräumen und hinterfragt globale Machtverhältniss
 e und Sulca Ariza (sie) – sie ist Akteurin und Künstlerin in der politi
 schen Bildungsarbeit und engagiert sich für Selbstorganisation und Commun
 ity Feminismus – werden mit euch den Workshop “zusammen wachsen\, BNE 
 in Krisenzeiten” durchführen. Worum geht es: Was fühlst Du angesichts 
 globaler Herausforderungen und Krisen und wie fühlen sich die Teilnehmend
 en Deiner Veranstaltungen? Überforderung\, Zukunftsängste\, Ärger\, Hof
 fnung? Gerade jetzt ist es wichtig\, dass Menschen sich stärken und weite
 r gemeinsam für ein Gutes Leben für alle einsetzen. \n\nMit transformati
 ver Bildungsarbeit können wir das unterstützen. Mit diesem Workshop soll
 en positive Zukunftsvorstellungen und Utopien gestärkt werden und Deine K
 ompetenzen für Deine Tätigkeit als Bildungsreferent*in in Bildung für n
 achhaltige Entwicklung und Globalem Lernen erweitern werden.\n\nEine Anmel
 dung unter folgendem Link ist unbedingt erforderlich:\n\nNetzwerktreffen N
 achhaltigkeit Lernen\n\n
ATTACH;FMTTYPE=image/jpeg:https://www.fesa.de/wp-content/uploads/2025/10/N
 ewsbeitrag_netzwerktreffen_350-×-250px.png
CATEGORIES:Ökostation Freiburg
LOCATION:Ökostation\, Falkenbergerstr. 21 b\, Freiburg\, 79110\, Deutschla
 nd
X-APPLE-STRUCTURED-LOCATION;VALUE=URI;X-ADDRESS=Falkenbergerstr. 21 b\, Fre
 iburg\, 79110\, Deutschland;X-APPLE-RADIUS=100;X-TITLE=Ökostation:geo:0,0
END:VEVENT
BEGIN:VTIMEZONE
TZID:Europe/Berlin
X-LIC-LOCATION:Europe/Berlin
BEGIN:STANDARD
DTSTART:20251026T020000
TZOFFSETFROM:+0200
TZOFFSETTO:+0100
TZNAME:CET
END:STANDARD
END:VTIMEZONE
END:VCALENDAR