BEGIN:VCALENDAR
VERSION:2.0
PRODID:-//wp-events-plugin.com//7.2.3.1//EN
TZID:Europe/Berlin
X-WR-TIMEZONE:Europe/Berlin
BEGIN:VEVENT
UID:696@fesa.de
DTSTART;TZID=Europe/Berlin:20251122T100000
DTEND;TZID=Europe/Berlin:20251122T160000
DTSTAMP:20251010T103651Z
URL:https://www.fesa.de/aktuelles/termine/mein-strom-vom-balkon-workshop-f
 reiburg-zaehringen/
SUMMARY:Mein Strom vom Balkon-Workshop Freiburg-Zähringen
DESCRIPTION:Am 22. November findet von 10:00 Uhr bis 16:00 Uhr ein Mein Str
 om vom Balkon – Workshop in Freiburg-Zähringen für Freiburger Bürger:
 innen statt.\n\nOrt: Quartiersarbeit Zähringen\, Platz der Zähringer\, Z
 ähringer Str. 346\, 79108 Freiburg.\n\nTeilnahmegebühr: 50\,-€\, dabei
  enthalten sind dann Anschlusskabel\, ein Wechselrichter (Hoymiles 800 Wat
 t) und das gewählte Modul. Allerdings ist nur das Modul in der Variante 1
  kostenlos\, Auswahlvariante 2 oder 3 kosten pro Modul 50 € oder 40 € 
 zusätzlich. Beachten Sie außerdem\, dass ein Anbringungsset nicht in der
  Teilnahmegebühr enthalten ist. \nHier geht es zur Anmeldung.
ATTACH;FMTTYPE=image/jpeg:https://www.fesa.de/wp-content/uploads/2025/07/V
 ortrag-SteckerPV-Eucor-Mobilab_350-×-250px.png
CATEGORIES:fesa e.V.,Klimaquartier Zähringen
LOCATION:Quartiersarbeit Zähringen\, Zähringer Str. 346\, Freiburg\, 7910
 8\, Deutschland
X-APPLE-STRUCTURED-LOCATION;VALUE=URI;X-ADDRESS=Zähringer Str. 346\, Freib
 urg\, 79108\, Deutschland;X-APPLE-RADIUS=100;X-TITLE=Quartiersarbeit Zähr
 ingen:geo:0,0
END:VEVENT
BEGIN:VTIMEZONE
TZID:Europe/Berlin
X-LIC-LOCATION:Europe/Berlin
BEGIN:STANDARD
DTSTART:20251026T020000
TZOFFSETFROM:+0200
TZOFFSETTO:+0100
TZNAME:CET
END:STANDARD
END:VTIMEZONE
END:VCALENDAR