BEGIN:VCALENDAR
VERSION:2.0
PRODID:-//wp-events-plugin.com//7.2.3.1//EN
TZID:Europe/Berlin
X-WR-TIMEZONE:Europe/Berlin
BEGIN:VEVENT
UID:373@fesa.de
DTSTART;TZID=Europe/Berlin:20230325T101500
DTEND;TZID=Europe/Berlin:20230325T124500
DTSTAMP:20230307T144251Z
URL:https://www.fesa.de/aktuelles/termine/mega-neubaustadtteil-dietenbach-
 alles-in-ordnung-oder-kippt-er/
SUMMARY:Samstags-Forum Regio Freiburg: Mega-Neubaustadtteil Dietenbach – 
 alles in Ordnung oder kippt er?
DESCRIPTION:„Das Kleinod – Der umkämpfte Dietenbach-Wald"Kurzfilm 18 m
 in (2022) von Sarah Moll\n\n„Im Abseits von Green City – Die Bauern vo
 mDietenbach und das Wohnen“Auszüge aus Film (2018) von Bodo Kaiser et a
 l.Aussprache mit Aktiven\n\nMehrere Kurzvorträge von Aktiven\, Aussprache
 \n\n&nbsp\;\n\nhttps://ecotrinova.de/downloads/2023/Progr_SamstagsForumReg
 ioFR_Fr%C3%BChjahr2023%20Reihe33%20LEPO.pdf
CATEGORIES:Ecotrinova
LOCATION:Hörsaal 1015\, Kollegiengebäude 1 \, Universität Freiburg\, Deu
 tschland
X-APPLE-STRUCTURED-LOCATION;VALUE=URI;X-ADDRESS=Kollegiengebäude 1 \, Univ
 ersität Freiburg\, Deutschland;X-APPLE-RADIUS=100;X-TITLE=Hörsaal 1015:g
 eo:0,0
END:VEVENT
BEGIN:VTIMEZONE
TZID:Europe/Berlin
X-LIC-LOCATION:Europe/Berlin
BEGIN:STANDARD
DTSTART:20221030T020000
TZOFFSETFROM:+0200
TZOFFSETTO:+0100
TZNAME:CET
END:STANDARD
END:VTIMEZONE
END:VCALENDAR