BEGIN:VCALENDAR
VERSION:2.0
PRODID:-//wp-events-plugin.com//7.2.3.1//EN
TZID:Europe/Berlin
X-WR-TIMEZONE:Europe/Berlin
BEGIN:VEVENT
UID:738@fesa.de
DTSTART;TZID=Europe/Berlin:20260510T110000
DTEND;TZID=Europe/Berlin:20260510T160000
DTSTAMP:20260306T101304Z
URL:https://www.fesa.de/aktuelles/termine/markt-fuer-morgen-auf-dem-munden
 hof/
SUMMARY:"Markt für Morgen" auf dem Mundenhof
DESCRIPTION:Wir laden ein zum „Markt für Morgen“ auf dem Mundenhof: Mi
 t vielen verschiedenen Mitmachaktionen für Groß und Klein setzen wir ein
  Zeichen für Klimaschutz\, Artenvielfalt und soziale Gerechtigkeit! Kommt
  vorbei und macht mit für Morgen!\n\nWer ist Wir: Im Rahmen des Klimaschu
 tzfonds Freiburg engagieren wir uns\, Abenteuerspielplatz\, fesa e.V.\, Ki
 nderabenteuerhof\, Lernort Kunzenhof\, Mundenhof\, Planetarium\, Solare Zu
 kunft e.V.\, Ökostation\, Waldhaus und zusammen leben e.V.\n\nDie Folgend
 en Informationen sind für Initiativen und Vereine\, die gerne einen Stand
  auf dem „Markt für Morgen“ anbieten möchten: Initiativen\, Vereine 
 und Organisationen sind eingeladen sich zu beteiligen.\n\nWer Lust hat bei
 m Markt für Morgen dabei zu sein kann sich hier melden: mundenhof@freibur
 g.de
ATTACH;FMTTYPE=image/jpeg:https://www.fesa.de/wp-content/uploads/2026/03/N
 ewsbeitrag-und-Veranstaltung-Bild-fesa-Webseite_Korrekte-Vorlage_350-×-25
 0px-3-e1775660104353.png
CATEGORIES:Ökostation Freiburg
LOCATION:Mundenhof\, Mundenhof\, Haus 15\, Freiburg\,  79111\, Deutschland
X-APPLE-STRUCTURED-LOCATION;VALUE=URI;X-ADDRESS=Mundenhof\, Haus 15\, Freib
 urg\,  79111\, Deutschland;X-APPLE-RADIUS=100;X-TITLE=Mundenhof:geo:0,0
END:VEVENT
BEGIN:VTIMEZONE
TZID:Europe/Berlin
X-LIC-LOCATION:Europe/Berlin
BEGIN:DAYLIGHT
DTSTART:20260329T030000
TZOFFSETFROM:+0100
TZOFFSETTO:+0200
TZNAME:CEST
END:DAYLIGHT
END:VTIMEZONE
END:VCALENDAR