BEGIN:VCALENDAR
VERSION:2.0
PRODID:-//wp-events-plugin.com//7.2.3.1//EN
TZID:Europe/Berlin
X-WR-TIMEZONE:Europe/Berlin
BEGIN:VEVENT
UID:372@fesa.de
DTSTART;TZID=Europe/Berlin:20230311T110000
DTEND;TZID=Europe/Berlin:20230311T180000
DTSTAMP:20230306T112059Z
URL:https://www.fesa.de/aktuelles/termine/klimaschutz-vor-ort-wie-die-waer
 mewende-in-baden-wuerttemberg-gelingt/
SUMMARY:Klimaschutz vor Ort - Wie die Wärmewende in Baden-Württemberg gel
 ingt
DESCRIPTION:\n\n\n\n\n\n\n\nDer starke Anstieg des Gaspreises und der russi
 sche Angriffskrieg haben uns im vergangenen Jahr gezeigt\, wie stark unser
 e Heizungen und unser Warmwasser von fossilen Energieträgern abhängig si
 nd – und die daraus resultierenden außenpolitischen Verstrickungen. Vor
  allem die Klimakrise zwingt uns\, rasch und effektiv im Wärmesektor umzu
 steuern – eine Wärmewende eben\, ähnlich der Energiewende im Stromsekt
 or. Denn die meiste Endenergie in Deutschland wird für Wärme verbraucht.
  In Privathaushalten machen Heizung und Warmwasser im Durchschnitt sogar 
 drei Viertel der verbrauchten Energie aus!\nBaden-Württemberg gilt in pun
 cto Wärmewende bundesweit als Vorreiter. Größere Gemeinden müssen noch
  in diesem Jahr Wärmepläne vorlegen\, die eine klimaneutraleVersorgung b
 is 2040 ermöglichen. Kleinere Gemeinden werden dabei finanziell und fachl
 ich unterstützt\, wenn sie es freiwillig tun.\nEs bleibt noch sehr viel z
 u tun: Der Wärmesektor muss sich rasch von ca. 15% auf 100% erneuerbare E
 nergien umstellen. Gebäude müssen in großem Maßstab energetisch sanie
 rt werden. Bestehende Wärmenetze müssen klimaneutral werden\, neue grün
 e Wärmenetze müssen entstehen. Auch wenn viele Rahmenbedingungen dafür 
 auf Landes-\, Bundes- oder EU-Ebene gesetzt werden\, spielt sich die Wärm
 ewende vor allem auf kommunaler Ebene ab.\nGemeinderat und Verwaltung\, St
 adtwerke\, Wohnbaugesellschaften\, Immobilienbesitzer*innen und Handwerk: 
 Sie sind essenziell bei der Wärmewende vor Ort. Die kann gelingen\, und z
 war wie?\n\n\n 	Betroffene Akteure informieren und einbeziehen.\n 	Kommuna
 le Strukturen zur Umsetzung stärken und neue aufbauen.\n 	Schlüssige Wä
 rmepläne erstellen und umsetzen.\n 	Kommunen zur Finanzierung Planungssic
 herheit geben.\n 	Sozialverträgliche Lösungen entwickeln und in die Brei
 te bringen.\n\nEs geht eben nicht nur um technische Änderungen\, sondern 
 vor allem auch um politische Entscheidungen und konsequentes Handeln\, das
  von uns gesellschaftlich mitgetragen wird.\nDeshalb ist die Wärmewende T
 hema unserer Jahrestagung 2023. Herzlich eingeladen sind alle Menschen\, d
 ie sich dafür interessieren\, wie der "schlafende Riese" Wärmesektor kli
 maneutral umgestellt werden kann.\nFachkenntnisse sind nicht erforderlich.
 \n\n\n\n\n\n\n\n\n\n\n\n\n\n\n\nWeitere Informationen zum Tagungsablauf\n\
 n\n\n\n\n\n
CATEGORIES:Heinrich Böll Stiftung
LOCATION:IHK – Haus der Wirtschaft\, Lammstraße 13 – 17\, Karlsruhe\, 
 76133\, Deutschland
X-APPLE-STRUCTURED-LOCATION;VALUE=URI;X-ADDRESS=Lammstraße 13 – 17\, Kar
 lsruhe\, 76133\, Deutschland;X-APPLE-RADIUS=100;X-TITLE=IHK – Haus der W
 irtschaft:geo:0,0
END:VEVENT
BEGIN:VTIMEZONE
TZID:Europe/Berlin
X-LIC-LOCATION:Europe/Berlin
BEGIN:STANDARD
DTSTART:20221030T020000
TZOFFSETFROM:+0200
TZOFFSETTO:+0100
TZNAME:CET
END:STANDARD
END:VTIMEZONE
END:VCALENDAR