BEGIN:VCALENDAR
VERSION:2.0
PRODID:-//wp-events-plugin.com//7.2.3.1//EN
TZID:Europe/Berlin
X-WR-TIMEZONE:Europe/Berlin
BEGIN:VEVENT
UID:710@fesa.de
DTSTART;TZID=Europe/Berlin:20251117T180000
DTEND;TZID=Europe/Berlin:20251117T193000
DTSTAMP:20251030T100422Z
URL:https://www.fesa.de/aktuelles/termine/heizungserneuerung-im-eigentum/
SUMMARY:Heizungserneuerung im Eigentum
DESCRIPTION:Kostenfreie Informationsveranstaltung für Bürger*innen im Lan
 dkreis Breisgau-Hochschwarzwald\n\nViele Menschen möchten derzeit Ihre He
 izung austauschen. Hier ist nicht nur der sinnvolle Beitrag zum Klimaschut
 z attraktiv\, sondern auch\, dass fossilarme oder sogar fossilfreie Heizva
 rianten unabhängiger von Energieimporten aus Drittländern machen und mit
 telfristig stabilere Preise versprechen. Auch der Gesetzgeber wird in Zuku
 nft klimafreundliche Heizvarianten weiter fördern und fordern. Doch welch
 e Möglichkeiten gibt es\, Ihr Zuhause effizient und klimafreundlich mit W
 ärme zu versorgen? Welche Gesetze müssen Sie beachten? Wie gehen Sie ein
 e Heizungserneuerung am besten an und wer kann Sie dabei unterstützen?\n\
 n\nSolarthermie\, Holzpellets\, Wärmepumpe oder der Anschluss an ein Wär
 menetz? Die Entscheidung\, welche Heizung die richtige für das eigene Geb
 äude ist\, fällt vielen Immobilienbesitzer*innen nicht leicht. Dies ist 
 verständlich\, denn jedes Gebäude muss individuell betrachtet werden. Hi
 er hilft das richtige Hintergrundwissen enorm!\n\nIn dieser Informationsve
 ranstaltung informieren Sie unabhängige Energieberater über die verschie
 denen Möglichkeiten Ihr Zuhause mit klimafreundlicher Wärme zu versorgen
 . Außerdem weisen wir Sie auf einzuhaltende Gesetze hin und zeigen Ihnen\
 , wo Sie kostengünstig weitere Unterstützung erhalten. Die Veranstaltung
  lässt neben fachlichem Input auch Raum für Ihre Fragen. Hierbei ist es 
 egal\, ob Sie ein Ein- oder Mehrfamilienhaus besitzen oder ob Sie Eigentü
 mer*in in einer Wohnungseigentümergemeinschaft (WEG) sind.\n\nDiese koste
 nfreie Veranstaltung richtet sich an Eigentümer*innen aus dem Landkreis B
 reisgau-Hochschwarzwald\, die ihr Eigenheim klimafreundlich gestalten woll
 en. Im Mittelpunkt der Veranstaltung steht das Thema Heizungstausch. Dämm
 maßnahmen der Außenwände\, Fensteraustausch\, Dachsanierung und Lüftun
 gsanlagen werden in einem separaten Vortrag behandelt\, der sich mit Sanie
 rung im Allgemeinen beschäftigt. Hier können Sie sich anmelden. Wer sich
  für erneuerbare Stromerzeugung mittels Photovoltaik interessiert\, finde
 t hier interessante Seminare.\n\n
ATTACH;FMTTYPE=image/jpeg:https://www.fesa.de/wp-content/uploads/2025/10/B
 ild_Energieagentur-Regio-Freiburg_C-Canva_350-×-250px-1.png
CATEGORIES:Energieagentur Regio Freiburg,Landkreis
 Breisgau-Hochschwarzwald
END:VEVENT
BEGIN:VTIMEZONE
TZID:Europe/Berlin
X-LIC-LOCATION:Europe/Berlin
BEGIN:STANDARD
DTSTART:20251026T020000
TZOFFSETFROM:+0200
TZOFFSETTO:+0100
TZNAME:CET
END:STANDARD
END:VTIMEZONE
END:VCALENDAR