BEGIN:VCALENDAR
VERSION:2.0
PRODID:-//wp-events-plugin.com//7.2.3.1//EN
TZID:Europe/Berlin
X-WR-TIMEZONE:Europe/Berlin
BEGIN:VEVENT
UID:698@fesa.de
DTSTART;TZID=Europe/Berlin:20251012T140000
DTEND;TZID=Europe/Berlin:20251012T170000
DTSTAMP:20251008T112147Z
URL:https://www.fesa.de/aktuelles/termine/gartenberatung/
SUMMARY:Gartenberatung im Herbst
DESCRIPTION:Gartenberatung im Herbst mit der Ökostation\n\nDie Ökostation
  lädt in den Biogarten ein. Sie geben Tipps und Anregungen für das Gärt
 nern im Herbst: Wie kann man Laub und Gartenabfälle richtig kompostieren?
  Wann werden Stauden und Gehölze am besten gepflanzt? Wie schafft man mit
  guter Bodenpflege bereits jetzt die Grundlage für das nächste Jahr? All
 e Fragen zum naturnahen Gärtnern und zum richtigen Kompostieren werden vo
 n dem Gärtner Andreas Kuhlmann beantwortet. \n\n\nGartenberatung im Herbs
 t
ATTACH;FMTTYPE=image/jpeg:https://www.fesa.de/wp-content/uploads/2025/10/N
 ewsbeitrag_gartenberatunge_350-×-250px.png
CATEGORIES:Ökostation Freiburg,Stadt Freiburg
LOCATION:Ökostation\, Falkenbergerstr. 21 b\, Freiburg\, 79110\, Deutschla
 nd
X-APPLE-STRUCTURED-LOCATION;VALUE=URI;X-ADDRESS=Falkenbergerstr. 21 b\, Fre
 iburg\, 79110\, Deutschland;X-APPLE-RADIUS=100;X-TITLE=Ökostation:geo:0,0
END:VEVENT
BEGIN:VTIMEZONE
TZID:Europe/Berlin
X-LIC-LOCATION:Europe/Berlin
BEGIN:DAYLIGHT
DTSTART:20250330T030000
TZOFFSETFROM:+0100
TZOFFSETTO:+0200
TZNAME:CEST
END:DAYLIGHT
END:VTIMEZONE
END:VCALENDAR