BEGIN:VCALENDAR
VERSION:2.0
PRODID:-//wp-events-plugin.com//7.2.3.1//EN
TZID:Europe/Berlin
X-WR-TIMEZONE:Europe/Berlin
BEGIN:VEVENT
UID:150@fesa.de
DTSTART;TZID=Europe/Berlin:20210318T190000
DTEND;TZID=Europe/Berlin:20210318T203000
DTSTAMP:20210309T091137Z
URL:https://www.fesa.de/aktuelles/termine/fesa-online-stammtisch/
SUMMARY:fesa Online-Stammtisch
DESCRIPTION:Klimaneutrale Quartiere und Neubaugebiete in Freiburg\nFreiburg
  hat sich zum Ziel gesetzt bis zum Jahr 2050 klimaneutral zu werden. Eine
  der größten Herausforderungen und gleichzeitig wichtigsten Handlungsfel
 der des Klimaschutzes besteht darin\, Klimaneutralität in Bestandsquartie
 ren zu erreichen. Doch was bedeutet das konkret und wie können wir dieses
  Ziel erreichen? Wo liegen die Grenzen des kommunalen Handlungsspielraumes
  und wie kann eine Kommune darüber hinaus die nachhaltige Entwicklung vor
 antreiben? \nZu diesen Fragen hat der fesa e.V. Frau Anne-Kathrin Brand\,
  Klimaschutzmanagerin bei der Stadt Freiburg\, eingeladen. Nach einem kur
 zen Überblick über die Freiburger Anforderungen für Neubaugebiete wird
  Frau Brand über das Leuchtturmprojekt "Unser Klimaquartier Waldsee" beri
 chten. Im Anschluss gibt es Raum für Fragen und den fachlichen Austausch.
 \n\nZur Anmeldung geht es hier\n\n[caption id="attachment_5907" align="ali
 gnnone" width="300"] Foto ©Nils Theurer[/caption]\n\n&nbsp\;
END:VEVENT
BEGIN:VTIMEZONE
TZID:Europe/Berlin
X-LIC-LOCATION:Europe/Berlin
BEGIN:STANDARD
DTSTART:20201025T020000
TZOFFSETFROM:+0200
TZOFFSETTO:+0100
TZNAME:CET
END:STANDARD
END:VTIMEZONE
END:VCALENDAR