BEGIN:VCALENDAR
VERSION:2.0
PRODID:-//wp-events-plugin.com//7.2.3.1//EN
TZID:Europe/Berlin
X-WR-TIMEZONE:Europe/Berlin
BEGIN:VEVENT
UID:154@fesa.de
DTSTART;TZID=Europe/Berlin:20211118T190000
DTEND;TZID=Europe/Berlin:20211118T203000
DTSTAMP:20211105T125146Z
URL:https://www.fesa.de/aktuelles/termine/fesa-online-stammtisch-5/
SUMMARY:fesa Online-Stammtisch
DESCRIPTION:Im Gegensatz zu allen anderen Sektoren haben die CO2-Emissionen
  aus dem Verkehr seit 1990 deutlich zugenommen. Insgesamt war der Straßen
 verkehr im Jahr 2018 für 26% aller CO2 -Emissionen der EU verantwortlich\
 , während er 1990 noch bei 16% lag [1]. Grund für die Steigerung der Emi
 ssionen ist das zunehmende Mobilitätsverhalten der Menschen. Mobilität g
 ibt den Menschen Unabhängigkeit\, Freiheit\, ermöglicht ihnen sich selbs
 t zu verwirklichen und einen individuellen Lebensstil zu führen. Die Mobi
 lität ist ein natürliches Grundbedürfnis und das Streben danach dements
 prechend unumgänglich. Deshalb gilt es nachhaltige Alternativen zu erarbe
 iten und die Mobilität in Zukunft klimafreundlicher zu gestaltet. Darum m
 öchten wir in unserem kommenden Online-Stammtisch über aktuelle Ansätze
  und Konzepte für klimafreundliche Mobilität diskutieren und dabei konkr
 et auf die Situation und Perspektiven in Freiburg und Umgebung eingehen.\n
 \n 	Referent: Fabian Kern\, Geschäftsführer des Verkehrsclubs Deutschlan
 d (VCD) in Südbaden\n 	Referentin: Hannah Eberhardt\, Gründerin der Verk
 ehrsberatungsfirma „Verkehr mit Köpfchen“\n 	Moderation: Marcus Brian
 \, Leiter der „Brian Kommunikation“- - Agentur für Öffentlichkeitsar
 beit\n\nAnmeldungen dazu hier.
END:VEVENT
BEGIN:VTIMEZONE
TZID:Europe/Berlin
X-LIC-LOCATION:Europe/Berlin
BEGIN:STANDARD
DTSTART:20211031T020000
TZOFFSETFROM:+0200
TZOFFSETTO:+0100
TZNAME:CET
END:STANDARD
END:VTIMEZONE
END:VCALENDAR