BEGIN:VCALENDAR
VERSION:2.0
PRODID:-//wp-events-plugin.com//7.2.3.1//EN
TZID:Europe/Berlin
X-WR-TIMEZONE:Europe/Berlin
BEGIN:VEVENT
UID:152@fesa.de
DTSTART;TZID=Europe/Berlin:20210715T190000
DTEND;TZID=Europe/Berlin:20210715T203000
DTSTAMP:20210701T135922Z
URL:https://www.fesa.de/aktuelles/termine/fesa-online-stammtisch-4/
SUMMARY:fesa Online-Stammtisch
DESCRIPTION:Klimaschutz für jeden Tag - sofort\, einfach\, wirkungsvoll\nZ
 ur Fortsetzung unserer Online-Stammtisch-Reihe geht es beim 4. fesa Online
 -Stammtisch um Klimaschutz im Alltag. Hierzu wird Felix Hollerbach\, Proje
 ktleiter Pädagogik beim fesa e.V.\, am 15. Juli um 19.00 Uhr referieren. 
 In seinem Vortrag wird beleuchtet\, wo die größten Stellschrauben für k
 limafreundlichen Konsum liegen\, was schnell und einfach umgesetzt ist\, w
 elche Maßnahmen wirklich effektiv sind und wie die ersten Schritte auf de
 m Weg zur Klimaneutralität gelingen können.\nEinladung herunterladen\n[w
 pdm_package id='6161']\n\nSie können sich hier anmelden.\n\n&nbsp\;
CATEGORIES:fesa e.V.
END:VEVENT
BEGIN:VTIMEZONE
TZID:Europe/Berlin
X-LIC-LOCATION:Europe/Berlin
BEGIN:DAYLIGHT
DTSTART:20210328T030000
TZOFFSETFROM:+0100
TZOFFSETTO:+0200
TZNAME:CEST
END:DAYLIGHT
END:VTIMEZONE
END:VCALENDAR