BEGIN:VCALENDAR
VERSION:2.0
PRODID:-//wp-events-plugin.com//7.2.3.1//EN
TZID:Europe/Berlin
X-WR-TIMEZONE:Europe/Berlin
BEGIN:VEVENT
UID:151@fesa.de
DTSTART;TZID=Europe/Berlin:20210520T190000
DTEND;TZID=Europe/Berlin:20210520T203000
DTSTAMP:20210512T093020Z
URL:https://www.fesa.de/aktuelles/termine/fesa-online-stammtisch-2/
SUMMARY:fesa Online-Stammtisch
DESCRIPTION:Nachhaltiges und klimafreundliches Bauen\n\nZur Fortsetzung uns
 erer Online-Stammtisch-Reihe geht es beim 3. fesa Online-Stammtisch um nac
 hhaltiges und klimafreundliches Bauen. Hierzu wird uns am 20. Mai um 19.00
  Uhr zum einen Michael Sellner\, Architekt und Energieberater aus Staufen 
 referieren. In seinem Vortrag stellt er die rechtlichen und wirtschaftlich
 en Voraussetzungen für nachhaltiges Bauen\, sowie unterschiedliche Zertif
 izierungen und Fördermöglichkeiten vor. Zum anderen hören wir einen Imp
 ulsvortrag von Gerrit Epp\, Geschäftsführer von Epp Holzbau. Das Unterne
 hmen beschäftigt sich intensiv mit nachhaltigem Bauen und setzt dabei auf
  ökologische\, regionale Naturmaterialien.\n\nEinladung zum 3. fesa-Stamm
 tisch Nachhaltiges Bauen\n\nAnmeldung zum 3. fesa Online-Stammtisch:\n\n[c
 ontact-form-7 id="5990" title="Anmeldung zum fesa Online-Stammtisch"]
CATEGORIES:fesa e.V.
END:VEVENT
BEGIN:VTIMEZONE
TZID:Europe/Berlin
X-LIC-LOCATION:Europe/Berlin
BEGIN:DAYLIGHT
DTSTART:20210328T030000
TZOFFSETFROM:+0100
TZOFFSETTO:+0200
TZNAME:CEST
END:DAYLIGHT
END:VTIMEZONE
END:VCALENDAR