BEGIN:VCALENDAR
VERSION:2.0
PRODID:-//wp-events-plugin.com//7.2.3.1//EN
TZID:Europe/Berlin
X-WR-TIMEZONE:Europe/Berlin
BEGIN:VEVENT
UID:737@fesa.de
DTSTART;TZID=Europe/Berlin:20260424T190000
DTEND;TZID=Europe/Berlin:20260424T203000
DTSTAMP:20260305T154247Z
URL:https://www.fesa.de/aktuelles/termine/die-nacht-der-umwelt-gruselgesch
 ichten-aus-dem-tierreich-am-lagerfeuer/
SUMMARY:Die Nacht der Umwelt: Gruselgeschichten aus dem Tierreich am Lagerf
 euer
DESCRIPTION:Die Nacht der Umwelt: Gruselgeschichten aus dem Tierreich am La
 gerfeuer\n\nIm Garten der Ökostation wird's gruselig... überall um uns h
 erum passieren unheimliche Dinge. Im Tier- und Pflanzenreich geht's biswei
 len schauderhaft zu. Wer sich traut\, kommt zur Erzählstunde rund um die 
 True-Crimes in Gärten\, Wald und Flur.\n\nMehr Info: https://oekostation.
 de/event/die-nacht-der-umwelt-gruselgeschichten-aus-dem-tierreich-am-lager
 feuer/
ATTACH;FMTTYPE=image/jpeg:https://www.fesa.de/wp-content/uploads/2026/03/N
 ewsbeitrag-und-Veranstaltung-Bild-fesa-Webseite_Korrekte-Vorlage_350-×-25
 0px9-e1775660141820.png
CATEGORIES:Ökostation Freiburg
LOCATION:Ökostation\, Falkenbergerstraße 21B\, Freiburg\, Deutschland
X-APPLE-STRUCTURED-LOCATION;VALUE=URI;X-ADDRESS=Falkenbergerstraße 21B\, F
 reiburg\, Deutschland;X-APPLE-RADIUS=100;X-TITLE=Ökostation:geo:0,0
END:VEVENT
BEGIN:VTIMEZONE
TZID:Europe/Berlin
X-LIC-LOCATION:Europe/Berlin
BEGIN:DAYLIGHT
DTSTART:20260329T030000
TZOFFSETFROM:+0100
TZOFFSETTO:+0200
TZNAME:CEST
END:DAYLIGHT
END:VTIMEZONE
END:VCALENDAR