BEGIN:VCALENDAR
VERSION:2.0
PRODID:-//wp-events-plugin.com//7.2.3.1//EN
TZID:Europe/Berlin
X-WR-TIMEZONE:Europe/Berlin
BEGIN:VEVENT
UID:550@fesa.de
DTSTART;TZID=Europe/Berlin:20240710T150000
DTEND;TZID=Europe/Berlin:20240710T193000
DTSTAMP:20240619T142030Z
URL:https://www.fesa.de/aktuelles/termine/c-a-r-m-e-n-webkonferenz-waermep
 umpen-fuer-mehrfamilienhaeuser-im-bestand-wie-geht-das/
SUMMARY:C.A.R.M.E.N.-WebKonferenz „Wärmepumpen für Mehrfamilienhäuser 
 im Bestand – Wie geht das?”
DESCRIPTION:Zunehmend streben Bürgerinnen und Bürger nach einer umweltfre
 undlichen und ökonomischen Energieversorgung im Eigenheim. Derzeit finden
  Wärmepumpen in Verbindung mit Photovoltaikanlagen vor allem in Einfamili
 enhäusern zunehmende Verbreitung. Jedoch sind sie in bereits bestehenden 
 Mehrfamilienhäusern selten anzutreffen. Die C.A.R.M.E.N.-WebKonferenz „
 Wärmepumpen für Mehrfamilienhäuser im Bestand – Wie geht das?“ klä
 rt die Frage\, wie diese Möglichkeit umgesetzt werden kann.\n\nIm ersten 
 Teil der Veranstaltung erläutert Martina Schmitt (Deutsche Energie-Agentu
 r\, dena) neben den technischen Grundlagen die Herausforderungen und Lösu
 ngen beim Wärmepumpeneinsatz in Mehrfamilienhäusern anhand des neuen Pra
 xisleitfaden für Wärmepumpen in Mehrfamilienhäusern. Außerdem gehen Dr
 . Peter Engelmann (Fraunhofer-Institut für Solare Energiesysteme\, ISE) m
 it Michael Kropp (Institut für Nachhaltige Technische Systeme\, INATECH) 
 sowohl auf die Frage der hygienischen Trinkwarmwasserversorgung als auch a
 uf praktische Betriebserfahrungen mit Wärmepumpen und verschiedene Forsch
 ungsergebnisse in Bestands-Mehrfamilienhäusern genauer ein.\n\nIm zweiten
  Teil zeigt Dr. Bernd Gewiese (Karlsruher Energie- und Klimaschutzagentur\
 , KEK)\, wie die Eigentümerinnen und Eigentümer eines Mehrparteienhauses
  den lokal erzeugten Strom aus einer Photovoltaikanlage für den Betrieb e
 iner Wärmepumpe nutzen können. In weiteren Praxisbeispielen stellen Lena
  Frühschütz (Baugrund Süd Gesellschaft für Geothermie)\, Stefan Rading
 er (OVUM Heiztechnik) und Tim Macht (Viessmann Deutschland) unter anderem 
 Erdwärme-\, Kaskaden- und Trinkwasserlösungen vor.\n\nDie Veranstaltung 
 richtet sich an Eigentümerinnen und Eigentümer von Mehrfamilienhäusern\
 , Hausverwaltungen\, Wohnungseigentümergesellschaften\, Wohnbauunternehme
 n\, Energieberatende\, Akteure im Bereich Wohngebäude sowie alle inhaltli
 ch und fachlich Interessierten.\n\nHier finden Sie das Programm. Anmelden 
 können Sie sich hier\, die Teilnahmegebühr beträgt 10 Euro.
CATEGORIES:C.A.R.M.E.N.
LOCATION:https://server50.sewobe.de/webportal/events/veranstaltung?MANDANT_
 KEY=U-28a393b56e87104c1037b17a064c0608&VER_ID=1133&SINGLEPAGE=1
END:VEVENT
BEGIN:VTIMEZONE
TZID:Europe/Berlin
X-LIC-LOCATION:Europe/Berlin
BEGIN:DAYLIGHT
DTSTART:20240331T030000
TZOFFSETFROM:+0100
TZOFFSETTO:+0200
TZNAME:CEST
END:DAYLIGHT
END:VTIMEZONE
END:VCALENDAR