BEGIN:VCALENDAR
VERSION:2.0
PRODID:-//wp-events-plugin.com//7.2.3.1//EN
TZID:Europe/Berlin
X-WR-TIMEZONE:Europe/Berlin
BEGIN:VEVENT
UID:551@fesa.de
DTSTART;TZID=Europe/Berlin:20240704T193000
DTEND;TZID=Europe/Berlin:20240704T220000
DTSTAMP:20240626T075227Z
URL:https://www.fesa.de/aktuelles/termine/bio-gemuese-statt-maschinengeweh
 re-frieden-schaffen-mit-landwirtschaft/
SUMMARY:Bio-Gemüse statt Maschinengewehre - Frieden schaffen mit Landwirts
 chaft
DESCRIPTION:Nach kurzer Einleitung wird Rommel Arnado mit seiner Hoffnung
  machenden Erfolgsstory gegen den jahrelangen Bürgerkrieg auf Mindanao/
 Philippinen beeindrucken. Im Anschluss wird eine von Bernward Geier (CO
 LABORA) moderierte Talkrunde mit zwei weiteren illustren Gästen für di
 e Besucher den Satz "From Arms to Farms" Sinne von „Schwerter zu Pflugs
 charen“ mit ganz konkreten Beispielen bereichern.\nNeben dem Freiburger 
 Jürgen Grässlin -  laut SPIEGEL bekanntester Pazifist Deutschlands\, is
 t Janet Maro von Sustainable Agriculture Tanzania (SAT) der zweite Talk
 gast. Sie wurde mit ihrem Mann Alexander Wostry mit dem One World Award
  von Rapunzel und IFOAM – Organic International ausgezeichnet und wird 
 eines ihrer spannendsten Projekte vorstellen: eine sehr  interessante und
  ebenfalls sehr erfolgreiche Konfliktauflösung zwischen Massai und landbe
 sitzenden Farmern. Einen Text und Kurzfilm zu ihrer „Winner" Story: htt
 ps://www.one-world-award.de/janet-maro-and-alexander-wostry.html. Die Rede
 n werden aus dem Englischen ins Deutsche übersetzt.
ATTACH;FMTTYPE=image/jpeg:https://www.fesa.de/wp-content/uploads/2024/06/A
 rmstoFarms-FriedenSchaffen-Plakat-vorn.jpg
LOCATION:Kreuzkirche im Stühlinger\, Fehrenbachallee 50\, Freiburg im Brei
 sgau\, Baden-Württemberg\, 79115\, Deutschland
X-APPLE-STRUCTURED-LOCATION;VALUE=URI;X-ADDRESS=Fehrenbachallee 50\, Freibu
 rg im Breisgau\, Baden-Württemberg\, 79115\, Deutschland;X-APPLE-RADIUS=1
 00;X-TITLE=Kreuzkirche im Stühlinger:geo:0,0
END:VEVENT
BEGIN:VTIMEZONE
TZID:Europe/Berlin
X-LIC-LOCATION:Europe/Berlin
BEGIN:DAYLIGHT
DTSTART:20240331T030000
TZOFFSETFROM:+0100
TZOFFSETTO:+0200
TZNAME:CEST
END:DAYLIGHT
END:VTIMEZONE
END:VCALENDAR