BEGIN:VCALENDAR
VERSION:2.0
PRODID:-//wp-events-plugin.com//7.2.3.1//EN
TZID:Europe/Berlin
X-WR-TIMEZONE:Europe/Berlin
BEGIN:VEVENT
UID:370@fesa.de
DTSTART;TZID=Europe/Berlin;VALUE=DATE:20230328
DTEND;TZID=Europe/Berlin;VALUE=DATE:20230330
DTSTAMP:20230228T093023Z
URL:https://www.fesa.de/aktuelles/termine/berlin-energy-transition-dialogu
 e-2023/
SUMMARY:Berlin Energy Transition Dialogue 2023
DESCRIPTION:Der Berliner Energiewende-Dialog ist eine Plattform für Schlü
 sselakteur*innen der Energiebranche. Hohe politische Entscheider*innen\, I
 ndustrie\, Wissenschaft und Zivilgesellschaft haben die Möglichkeit\, ihr
 e Erfahrungen und Ideen zu einer sicheren\, erschwinglichen und umweltfreu
 ndlichen globalen Energiewende auszutauschen. Über 2.000 Teilnehmende aus
  mehr als 90 Ländern\, 50 ausländische und Energieminister*innen und Sta
 atssekretär*innen sowie über 100 hochrangige Redner*innen versammeln sic
 h jährlich in der deutschen Hauptstadt\, um beim Berliner Energiewende-Di
 alog dabei zu sein.\n\nDie Konferenz kannst Du am 28. und 29. März live b
 ei YouTube verfolgen.\n\nMehr Infos unter: Berlin Energy Transition Dialog
 ue Conference 2023 (energydialogue.berlin)
CATEGORIES:Berliner Energiewende-Dialog
END:VEVENT
BEGIN:VTIMEZONE
TZID:Europe/Berlin
X-LIC-LOCATION:Europe/Berlin
BEGIN:DAYLIGHT
DTSTART:20230326T030000
TZOFFSETFROM:+0100
TZOFFSETTO:+0200
TZNAME:CEST
END:DAYLIGHT
END:VTIMEZONE
END:VCALENDAR