BEGIN:VCALENDAR
VERSION:2.0
PRODID:-//wp-events-plugin.com//7.2.3.1//EN
TZID:Europe/Berlin
X-WR-TIMEZONE:Europe/Berlin
BEGIN:VEVENT
UID:697@fesa.de
DTSTART;TZID=Europe/Berlin:20251009T110000
DTEND;TZID=Europe/Berlin:20251009T150000
DTSTAMP:20251008T094257Z
URL:https://www.fesa.de/aktuelles/termine/autofreie-rempartstrasse/
SUMMARY:Rempartstraße Autofrei
DESCRIPTION:Autofreie Rempartstraße \n\nAm Donnerstag\, 9. Oktober\, finde
 t in der Rempartstraße zwischen 11 und 15 Uhr eine Demonstration zum Them
 a „Autofreie Rempartstraße“ statt. Die Veranstalter*innen rechnen mit
  50 teilnehmenden Personen.\n\nUm zu zeigen\, wie lebenswert die Rempartst
 raße ohne Autos sein kann\, soll die Straße gestaltet werden: Ab 11:45 U
 hr wird es eine lange Tafel geben\, an der gemeinsam zum (Mensa-)Mittagess
 en zusammen kommen wird. Mit Sicherheit und Aufenthaltsqualität\, die die
 ser zentrale Campusbereich auch in der Zukunft gewinnen könnte.\n\nKommt 
 mit eurem Mittagessen auf die Straße!\n\nDie Rempartstraße wird hierfür
  im Bereich zwischen Werthmannstraße und Humboldtstraße ab 10 Uhr gesper
 rt. Ab ca. 16 Uhr wird sie wieder befahrbar sein.\n\n2025_10_09_Autofreie 
 Rempartstraße\n 
ATTACH;FMTTYPE=image/jpeg:https://www.fesa.de/wp-content/uploads/2025/10/N
 ewsbeitrag-und-Veranstaltung-Bild-fesa-Webseite_Korrekte-Vorlage_350-×-25
 0px.png
CATEGORIES:Greenpeace,Students for Future
LOCATION:Rempartstraße\, Rempartstraße\, Freiburg\, 79098\, Deutschland
X-APPLE-STRUCTURED-LOCATION;VALUE=URI;X-ADDRESS=Rempartstraße\, Freiburg\,
  79098\, Deutschland;X-APPLE-RADIUS=100;X-TITLE=Rempartstraße:geo:0,0
END:VEVENT
BEGIN:VTIMEZONE
TZID:Europe/Berlin
X-LIC-LOCATION:Europe/Berlin
BEGIN:DAYLIGHT
DTSTART:20250330T030000
TZOFFSETFROM:+0100
TZOFFSETTO:+0200
TZNAME:CEST
END:DAYLIGHT
END:VTIMEZONE
END:VCALENDAR