BEGIN:VCALENDAR
VERSION:2.0
PRODID:-//wp-events-plugin.com//7.2.3.1//EN
TZID:Europe/Berlin
X-WR-TIMEZONE:Europe/Berlin
BEGIN:VEVENT
UID:119@fesa.de
DTSTART;TZID=Europe/Berlin;VALUE=DATE:20200320
DTEND;TZID=Europe/Berlin;VALUE=DATE:20200321
DTSTAMP:20191219T105103Z
URL:https://www.fesa.de/aktuelles/termine/auftaktveranstaltung-kommunales-
 energie-und-klimaschutzmanagement/
SUMMARY:Auftaktveranstaltung Kommunales Energie- und Klimaschutzmanagement
DESCRIPTION:Beginn des halbjährlichen KEM-Kurses\nZum neunten Mal führen 
 das Institut für Fortbildung und Projektmanagement (ifpro) und der fesa e
 . V. den halbjährig stattfindenden\, berufsbegleitenden Kurs „Kommunale
 s Energie- und Klimaschutzmanagement“ durch\, um motivierten Menschen di
 e entscheidenden Qualifikationen und Handlungskompetenzen im Klimaschutz- 
 und Energiemanagement an die Hand zu geben.\n\n&nbsp\;\n\nZur vollständig
 en Kursbeschreibung
CATEGORIES:fesa e.V.,ifpro
END:VEVENT
BEGIN:VTIMEZONE
TZID:Europe/Berlin
X-LIC-LOCATION:Europe/Berlin
BEGIN:STANDARD
DTSTART:20191027T020000
TZOFFSETFROM:+0200
TZOFFSETTO:+0100
TZNAME:CET
END:STANDARD
END:VTIMEZONE
END:VCALENDAR