BEGIN:VCALENDAR
VERSION:2.0
PRODID:-//wp-events-plugin.com//7.2.3.1//EN
TZID:Europe/Berlin
X-WR-TIMEZONE:Europe/Berlin
BEGIN:VEVENT
UID:695@fesa.de
DTSTART;TZID=Europe/Berlin:20251011T150000
DTEND;TZID=Europe/Berlin:20251011T180000
DTSTAMP:20251001T120632Z
URL:https://www.fesa.de/aktuelles/termine/auftaktveranstaltung-klimaquarti
 er-zaehringen/
SUMMARY:Klimaquartier Zähringen: Auftaktveranstaltung
DESCRIPTION:Auftaktveranstaltung Klimaquartier Zähringen\nSamstag\, 11. Ok
 tober 2025\n15:00 bis 18:00 Uhr\nBürgerhaus Zähringen (Lameystr. 2\, 791
 08 Freiburg)\n\n2025_10_11_Fest Klimaqaurtier_Zähringen
ATTACH;FMTTYPE=image/jpeg:https://www.fesa.de/wp-content/uploads/2025/10/N
 ewsbeitrag-Klimaquartier_C-Stadt-freiburg_350-×-250px.png
END:VEVENT
BEGIN:VTIMEZONE
TZID:Europe/Berlin
X-LIC-LOCATION:Europe/Berlin
BEGIN:DAYLIGHT
DTSTART:20250330T030000
TZOFFSETFROM:+0100
TZOFFSETTO:+0200
TZNAME:CEST
END:DAYLIGHT
END:VTIMEZONE
END:VCALENDAR