BEGIN:VCALENDAR
VERSION:2.0
PRODID:-//wp-events-plugin.com//7.2.3.1//EN
TZID:Europe/Berlin
X-WR-TIMEZONE:Europe/Berlin
BEGIN:VEVENT
UID:552@fesa.de
DTSTART;TZID=Europe/Berlin;VALUE=DATE:20240719
DTEND;TZID=Europe/Berlin;VALUE=DATE:20240722
DTSTAMP:20240703T120242Z
URL:https://www.fesa.de/aktuelles/termine/agrikulturfestival/
SUMMARY:Agrikulturfestival
DESCRIPTION:Ein Wochenende im Eschholzpark voll mit gutem Essen\, Musik\, V
 orträgen\, Diskussionsrunden\, Workshops\, Infoständen und vielem mehr.\
 n\nImmer ein verlängertes Wochenende im Sommer bietet das AgriKultur Fest
 ival ein vielfältiges Programm aus Vorträgen\, Podiumsdiskussionen\, Wor
 kshops\, Musik\, Infoständen\, Kulinarik und Kultur\, um verschiedensten 
 Aspekten von AgriKultur einen Raum zu geben. Dabei ist unser Festival mehr
  als eine Veranstaltung – es ist ein impulsgebender Ort des Austauschs\,
  des geselligen Beisammenseins und der gemeinsamen Ideenschmiede für eine
  engagierte Zivilgesellschaft\, aktionistische Landwirtschaft\, Institutio
 nen und alle neugierigen Geister\, die sich für Ernährungssouveränität
  begeistern. Das AgriKultur Festival ist ein kostenloses Festival und nich
 t auf Gewinn\, sondern auf Diskussion\, Austausch und Vernetzung ausgerich
 tet. Durch einige Hauptförderer können wir die Grundkosten für Infrastr
 uktur\, Honorare und Sachkosten decken\; weitere Spenden sind jedoch herzl
 ich willkommen und ausdrücklich gewünscht.\n\nBei Interesse mitzumachen:
  mit Infostand\, als KünstlerIn oder ReferentIn\, als HelferIn oder einfa
 ch so bei Fragen – meldet Euch! Den Kontakt und mehr Infos zum Festival 
 findet ihr hier.\n\n&nbsp\;
ATTACH;FMTTYPE=image/jpeg:https://www.fesa.de/wp-content/uploads/2024/07/B
 ild_Veranstaltung_agrikultur_festival.png
CATEGORIES:AgriKultur e.V.
LOCATION:Eschholzpark\, Eschholzpark\, Freiburg im Breisgau\, Deutschland
X-APPLE-STRUCTURED-LOCATION;VALUE=URI;X-ADDRESS=Eschholzpark\, Freiburg im 
 Breisgau\, Deutschland;X-APPLE-RADIUS=100;X-TITLE=Eschholzpark:geo:0,0
END:VEVENT
BEGIN:VTIMEZONE
TZID:Europe/Berlin
X-LIC-LOCATION:Europe/Berlin
BEGIN:DAYLIGHT
DTSTART:20240331T030000
TZOFFSETFROM:+0100
TZOFFSETTO:+0200
TZNAME:CEST
END:DAYLIGHT
END:VTIMEZONE
END:VCALENDAR