BEGIN:VCALENDAR
VERSION:2.0
PRODID:-//wp-events-plugin.com//7.2.3.1//EN
TZID:Europe/Berlin
X-WR-TIMEZONE:Europe/Berlin
BEGIN:VEVENT
UID:121@fesa.de
DTSTART;TZID=Europe/Berlin;VALUE=DATE:20200213
DTEND;TZID=Europe/Berlin;VALUE=DATE:20200215
DTSTAMP:20200108T090505Z
URL:https://www.fesa.de/aktuelles/termine/9-kongress-energieautonome-kommu
 nen/
SUMMARY:9. Kongress Energieautonome Kommunen Messe Freiburg
DESCRIPTION:Mehr Praxis – Mehr Vernetzung – Mehr Umsetzung\nDie Energie
 wende muss deutlich beschleunigt werden\, wenn wir die Pariser Klimaschutz
 ziele in Deutschland noch erreichen wollen.\n\nBedeutsam für den Erfolg d
 ieser Transformation ist - neben den regulatorischen Rahmenbedingungen und
  Anreizprogrammen auf nationaler Ebene - die Umsetzung auf kommunaler Eben
 e. Deshalb steht der Kongress Energieautonome Kommunen 2020 ganz im Zeiche
 n der praktischen Umsetzung und Beschleunigung der Energiewende.\n\nHierf
 ür bieten wir ein neues Kongressformat an\, das noch mehr Kontakt\, mehr 
 Vernetzung und mehr fachlichen Austausch zwischen Referenten\, Teilnehmern
  und Fachausstellern ermöglicht – auf dem Kongress und online darüber 
 hinaus.\n\nDer Kongress Energieautonome Kommunen wurde 2011 vom fesa e.V. 
 initiiert und findet 2020 zum 9. Mal statt. Er richtet sich an Verantwortl
 iche aus den Bereichen kommunale Verwaltung\, Energiewirtschaft\, Wohnungs
 wirtschaft\, Gewerbe\, Industrie und Bürgergenossenschaften. Erwartet wer
 den rund 200 Teilnehmer aus Deutschland\, Österreich und der Schweiz.\n\n
 Detaillierte Informationen und das Kongressprogramm finden Sie hier: https
 ://www.energieautonome-kommunen.de/
CATEGORIES:schäffler sinnogy
LOCATION:Messe Freiburg\, Neuer Messplatz 1\, Freiburg\, 79108\, Deutschlan
 d
GEO:48.0156785;7.840311499999984
X-APPLE-STRUCTURED-LOCATION;VALUE=URI;X-ADDRESS=Neuer Messplatz 1\, Freibur
 g\, 79108\, Deutschland;X-APPLE-RADIUS=100;X-TITLE=Messe Freiburg:geo:48.0
 156785,7.840311499999984
END:VEVENT
BEGIN:VTIMEZONE
TZID:Europe/Berlin
X-LIC-LOCATION:Europe/Berlin
BEGIN:STANDARD
DTSTART:20191027T020000
TZOFFSETFROM:+0200
TZOFFSETTO:+0100
TZNAME:CET
END:STANDARD
END:VTIMEZONE
END:VCALENDAR