BEGIN:VCALENDAR
VERSION:2.0
PRODID:-//wp-events-plugin.com//7.2.3.1//EN
TZID:Europe/Berlin
X-WR-TIMEZONE:Europe/Berlin
BEGIN:VEVENT
UID:734@fesa.de
DTSTART;TZID=Europe/Berlin:20260418T140000
DTEND;TZID=Europe/Berlin:20260418T190000
DTSTAMP:20260304T155414Z
URL:https://www.fesa.de/aktuelles/termine/40-jahre-oekostation/
SUMMARY:40 Jahre Ökostation
DESCRIPTION:Die Ökostation Freiburg feiert am Samstag\, 18. April 2026 ihr
  40-jähriges Bestehen. Seit 1986 ist sie ein zentraler Ort für Umwelt-\,
  Natur- und Klimabildung in Freiburg. Zur öffentlichen Jubiläumsfeier l
 ädt die Ökostation mit einem vielfältigen Programm aus Mitmachaktionen\
 , Führungen\, Musik und Leckereien aus der Region.\n\nhttps://oekostation
 .de/event/40-jahre-oekostation/
ATTACH;FMTTYPE=image/jpeg:https://www.fesa.de/wp-content/uploads/2026/03/N
 ewsbeitrag-und-Veranstaltung-Bild-fesa-Webseite_Korrekte-Vorlage_350-×-25
 0px.png
CATEGORIES:Ökostation Freiburg
LOCATION:Ökostation\, Falkenbergstraße 21B\, Freiburg\, Deutschland
X-APPLE-STRUCTURED-LOCATION;VALUE=URI;X-ADDRESS=Falkenbergstraße 21B\, Fre
 iburg\, Deutschland;X-APPLE-RADIUS=100;X-TITLE=Ökostation:geo:0,0
END:VEVENT
BEGIN:VTIMEZONE
TZID:Europe/Berlin
X-LIC-LOCATION:Europe/Berlin
BEGIN:DAYLIGHT
DTSTART:20260329T030000
TZOFFSETFROM:+0100
TZOFFSETTO:+0200
TZNAME:CEST
END:DAYLIGHT
END:VTIMEZONE
END:VCALENDAR